BEGIN:VCALENDAR
VERSION:2.0
PRODID:-//Rosemont Community Association - ECPv6.15.10//NONSGML v1.0//EN
CALSCALE:GREGORIAN
METHOD:PUBLISH
X-ORIGINAL-URL:https://rosemontca.org
X-WR-CALDESC:Events for Rosemont Community Association
REFRESH-INTERVAL;VALUE=DURATION:PT1H
X-Robots-Tag:noindex
X-PUBLISHED-TTL:PT1H
BEGIN:VTIMEZONE
TZID:America/Los_Angeles
BEGIN:DAYLIGHT
TZOFFSETFROM:-0800
TZOFFSETTO:-0700
TZNAME:PDT
DTSTART:20230312T100000
END:DAYLIGHT
BEGIN:STANDARD
TZOFFSETFROM:-0700
TZOFFSETTO:-0800
TZNAME:PST
DTSTART:20231105T090000
END:STANDARD
BEGIN:DAYLIGHT
TZOFFSETFROM:-0800
TZOFFSETTO:-0700
TZNAME:PDT
DTSTART:20240310T100000
END:DAYLIGHT
BEGIN:STANDARD
TZOFFSETFROM:-0700
TZOFFSETTO:-0800
TZNAME:PST
DTSTART:20241103T090000
END:STANDARD
BEGIN:DAYLIGHT
TZOFFSETFROM:-0800
TZOFFSETTO:-0700
TZNAME:PDT
DTSTART:20250309T100000
END:DAYLIGHT
BEGIN:STANDARD
TZOFFSETFROM:-0700
TZOFFSETTO:-0800
TZNAME:PST
DTSTART:20251102T090000
END:STANDARD
END:VTIMEZONE
BEGIN:VEVENT
DTSTART;TZID=America/Los_Angeles:20240910T150000
DTEND;TZID=America/Los_Angeles:20240910T210000
DTSTAMP:20260424T171936
CREATED:20240815T050251Z
LAST-MODIFIED:20240827T045712Z
UID:7694-1725980400-1726002000@rosemontca.org
SUMMARY:Rosemont Reads Dine Out Fundraiser
DESCRIPTION:Enjoy a scrumptious Italian meal at Ippolito’s Trattoria while raising funds for Rosemont Read’s Summer Reading Challenge. Bring the whole family! Ippolito’s will donate 20% from 3pm to 9pm. No coupons necessary.
URL:https://rosemontca.org/event/rosemont-reads-dine-out-fundraiser/
LOCATION:Ippolito’s Trattoria\, 9500 Micron Ave\, Sacramento\, CA\, 95827\, United States
ATTACH;FMTTYPE=image/jpeg:https://rosemontca.org/wp-content/uploads/2024/08/Calendar-Image.jpg
END:VEVENT
END:VCALENDAR