BEGIN:VCALENDAR
VERSION:2.0
PRODID:-//Rosemont Community Association - ECPv6.15.10//NONSGML v1.0//EN
CALSCALE:GREGORIAN
METHOD:PUBLISH
X-ORIGINAL-URL:https://rosemontca.org
X-WR-CALDESC:Events for Rosemont Community Association
REFRESH-INTERVAL;VALUE=DURATION:PT1H
X-Robots-Tag:noindex
X-PUBLISHED-TTL:PT1H
BEGIN:VTIMEZONE
TZID:America/Los_Angeles
BEGIN:DAYLIGHT
TZOFFSETFROM:-0800
TZOFFSETTO:-0700
TZNAME:PDT
DTSTART:20230312T100000
END:DAYLIGHT
BEGIN:STANDARD
TZOFFSETFROM:-0700
TZOFFSETTO:-0800
TZNAME:PST
DTSTART:20231105T090000
END:STANDARD
BEGIN:DAYLIGHT
TZOFFSETFROM:-0800
TZOFFSETTO:-0700
TZNAME:PDT
DTSTART:20240310T100000
END:DAYLIGHT
BEGIN:STANDARD
TZOFFSETFROM:-0700
TZOFFSETTO:-0800
TZNAME:PST
DTSTART:20241103T090000
END:STANDARD
BEGIN:DAYLIGHT
TZOFFSETFROM:-0800
TZOFFSETTO:-0700
TZNAME:PDT
DTSTART:20250309T100000
END:DAYLIGHT
BEGIN:STANDARD
TZOFFSETFROM:-0700
TZOFFSETTO:-0800
TZNAME:PST
DTSTART:20251102T090000
END:STANDARD
END:VTIMEZONE
BEGIN:VEVENT
DTSTART;TZID=America/Los_Angeles:20240928T100000
DTEND;TZID=America/Los_Angeles:20240928T140000
DTSTAMP:20260424T171938
CREATED:20240813T002620Z
LAST-MODIFIED:20240815T052821Z
UID:7680-1727517600-1727532000@rosemontca.org
SUMMARY:Rosemont Community Celebration
DESCRIPTION:RCA will be hosting the 15th Annual Rosemont Community Celebration. This is Rosemont’s premier event and a chance for neighbors to come together for fun\, and everything is free—including food\, music\, kids’ activities\, and information booths. You can gather information on local businesses\, emergency services\, law enforcement\, health\, education\, social services\, animal control\, clean air\, environmental sustainability\, and community organizations.
URL:https://rosemontca.org/event/rosemont-community-celebration/
LOCATION:Rosemont Community Park\, 9326 Americana Way\, Sacramento\, CA\, 95826\, United States
ATTACH;FMTTYPE=image/jpeg:https://rosemontca.org/wp-content/uploads/2024/08/Web-Image-2024-scaled-e1723508212307.jpg
END:VEVENT
END:VCALENDAR