BEGIN:VCALENDAR
VERSION:2.0
PRODID:-//Rosemont Community Association - ECPv6.15.10//NONSGML v1.0//EN
CALSCALE:GREGORIAN
METHOD:PUBLISH
X-WR-CALNAME:Rosemont Community Association
X-ORIGINAL-URL:https://rosemontca.org
X-WR-CALDESC:Events for Rosemont Community Association
REFRESH-INTERVAL;VALUE=DURATION:PT1H
X-Robots-Tag:noindex
X-PUBLISHED-TTL:PT1H
BEGIN:VTIMEZONE
TZID:America/Los_Angeles
BEGIN:DAYLIGHT
TZOFFSETFROM:-0800
TZOFFSETTO:-0700
TZNAME:PDT
DTSTART:20230312T100000
END:DAYLIGHT
BEGIN:STANDARD
TZOFFSETFROM:-0700
TZOFFSETTO:-0800
TZNAME:PST
DTSTART:20231105T090000
END:STANDARD
BEGIN:DAYLIGHT
TZOFFSETFROM:-0800
TZOFFSETTO:-0700
TZNAME:PDT
DTSTART:20240310T100000
END:DAYLIGHT
BEGIN:STANDARD
TZOFFSETFROM:-0700
TZOFFSETTO:-0800
TZNAME:PST
DTSTART:20241103T090000
END:STANDARD
BEGIN:DAYLIGHT
TZOFFSETFROM:-0800
TZOFFSETTO:-0700
TZNAME:PDT
DTSTART:20250309T100000
END:DAYLIGHT
BEGIN:STANDARD
TZOFFSETFROM:-0700
TZOFFSETTO:-0800
TZNAME:PST
DTSTART:20251102T090000
END:STANDARD
END:VTIMEZONE
BEGIN:VEVENT
DTSTART;TZID=America/Los_Angeles:20241107T180000
DTEND;TZID=America/Los_Angeles:20241107T200000
DTSTAMP:20260424T135833
CREATED:20241104T213238Z
LAST-MODIFIED:20241104T213238Z
UID:7849-1731002400-1731009600@rosemontca.org
SUMMARY:Free Bike Repair Event
DESCRIPTION:Free opportunity to get residents all fixed up and ready to ride. Plus\, learn about bike maintenance from mechanics at Bike Lab. \nAll events are 6:00 PM – 8:00 PM. Please book a separate appointment for each bike you plan to bring with you. We will serve a limited number of walk-ups at each event on a first-come\, first-serve basis. \nYou must be a Rosemont to be eligible for this service (You can view eligibility map here to see if you are in this community). This area includes households: \n\nEast of Watt Ave\nWest of Bradshaw\nNorth of Jackson Rd\nSouth of Folsom Blvd\n\nThese events are sponsored by the 50 Corridor TMA\, Bike Lab\, and Sacramento County Department of Transportation. \nFor more information\, go to www.50corridor.com or contact us directly at: \nteam@50corridor.com \n(916) 234-6176
URL:https://rosemontca.org/event/free-bike-repair-event/
LOCATION:Einstein Middle School\, 9325 Mirandy Ave\, Sacramento\, CA\, 95826\, United States
ATTACH;FMTTYPE=image/jpeg:https://rosemontca.org/wp-content/uploads/2024/11/32b2d2e5-3c93-8ac5-c49d-5c26d659376f.jpg
END:VEVENT
END:VCALENDAR