BEGIN:VCALENDAR
VERSION:2.0
PRODID:-//Rosemont Community Association - ECPv6.15.10//NONSGML v1.0//EN
CALSCALE:GREGORIAN
METHOD:PUBLISH
X-WR-CALNAME:Rosemont Community Association
X-ORIGINAL-URL:https://rosemontca.org
X-WR-CALDESC:Events for Rosemont Community Association
REFRESH-INTERVAL;VALUE=DURATION:PT1H
X-Robots-Tag:noindex
X-PUBLISHED-TTL:PT1H
BEGIN:VTIMEZONE
TZID:America/Los_Angeles
BEGIN:DAYLIGHT
TZOFFSETFROM:-0800
TZOFFSETTO:-0700
TZNAME:PDT
DTSTART:20240310T100000
END:DAYLIGHT
BEGIN:STANDARD
TZOFFSETFROM:-0700
TZOFFSETTO:-0800
TZNAME:PST
DTSTART:20241103T090000
END:STANDARD
BEGIN:DAYLIGHT
TZOFFSETFROM:-0800
TZOFFSETTO:-0700
TZNAME:PDT
DTSTART:20250309T100000
END:DAYLIGHT
BEGIN:STANDARD
TZOFFSETFROM:-0700
TZOFFSETTO:-0800
TZNAME:PST
DTSTART:20251102T090000
END:STANDARD
BEGIN:DAYLIGHT
TZOFFSETFROM:-0800
TZOFFSETTO:-0700
TZNAME:PDT
DTSTART:20260308T100000
END:DAYLIGHT
BEGIN:STANDARD
TZOFFSETFROM:-0700
TZOFFSETTO:-0800
TZNAME:PST
DTSTART:20261101T090000
END:STANDARD
END:VTIMEZONE
BEGIN:VEVENT
DTSTART;TZID=America/Los_Angeles:20250712T100000
DTEND;TZID=America/Los_Angeles:20250712T120000
DTSTAMP:20260424T005921
CREATED:20250711T234724Z
LAST-MODIFIED:20250711T234724Z
UID:8412-1752314400-1752321600@rosemontca.org
SUMMARY:Party in the Park - Hagan
DESCRIPTION:Party in the Park\n\n\nSaturday\, July 12 | 10 a.m. – Noon | Hagan Community Park\nJoin us for a fun summer party at Hagan Community Park with giveaways\, music\, vendors and more! Enjoy a variety of food and drinks from local makers. \nActivities \n Free art activities\n Games\n Music\n So much more!
URL:https://rosemontca.org/event/party-in-the-park-hagan/
LOCATION:Hagan Community Center\, 2197 Chase Dr\, Rancho Cordova\, CA\, 95670\, United States
ATTACH;FMTTYPE=image/jpeg:https://rosemontca.org/wp-content/uploads/2025/07/Party-in-the-Park-logo-e1683558880215-800x600-1.jpg
END:VEVENT
END:VCALENDAR