BEGIN:VCALENDAR
VERSION:2.0
PRODID:-//Rosemont Community Association - ECPv6.15.10//NONSGML v1.0//EN
CALSCALE:GREGORIAN
METHOD:PUBLISH
X-ORIGINAL-URL:https://rosemontca.org
X-WR-CALDESC:Events for Rosemont Community Association
REFRESH-INTERVAL;VALUE=DURATION:PT1H
X-Robots-Tag:noindex
X-PUBLISHED-TTL:PT1H
BEGIN:VTIMEZONE
TZID:America/Los_Angeles
BEGIN:DAYLIGHT
TZOFFSETFROM:-0800
TZOFFSETTO:-0700
TZNAME:PDT
DTSTART:20240310T100000
END:DAYLIGHT
BEGIN:STANDARD
TZOFFSETFROM:-0700
TZOFFSETTO:-0800
TZNAME:PST
DTSTART:20241103T090000
END:STANDARD
BEGIN:DAYLIGHT
TZOFFSETFROM:-0800
TZOFFSETTO:-0700
TZNAME:PDT
DTSTART:20250309T100000
END:DAYLIGHT
BEGIN:STANDARD
TZOFFSETFROM:-0700
TZOFFSETTO:-0800
TZNAME:PST
DTSTART:20251102T090000
END:STANDARD
BEGIN:DAYLIGHT
TZOFFSETFROM:-0800
TZOFFSETTO:-0700
TZNAME:PDT
DTSTART:20260308T100000
END:DAYLIGHT
BEGIN:STANDARD
TZOFFSETFROM:-0700
TZOFFSETTO:-0800
TZNAME:PST
DTSTART:20261101T090000
END:STANDARD
END:VTIMEZONE
BEGIN:VEVENT
DTSTART;TZID=America/Los_Angeles:20250802T100000
DTEND;TZID=America/Los_Angeles:20250802T140000
DTSTAMP:20260424T023834
CREATED:20250617T214305Z
LAST-MODIFIED:20250708T223029Z
UID:8321-1754128800-1754143200@rosemontca.org
SUMMARY:5th Annual Backpack & School Supplies Giveaway
DESCRIPTION:Hey\, Rosemont Kids! It’s time to get ready for the school year! \n\nOpen to Rosemont students entering K-12th grades.\nLimit of 1 backpack per student.\nStudents must be present to receive backpacks and supplies.\nBackpacks and supplies will be distributed on a first come\, first served basis.
URL:https://rosemontca.org/event/5th-annual-backpack-school-supplies-giveaway/
LOCATION:Baskin Robbins\, 9197 Kiefer Blvd.
CATEGORIES:Community
ATTACH;FMTTYPE=image/jpeg:https://rosemontca.org/wp-content/uploads/2025/06/Calendar-Image.jpg
END:VEVENT
END:VCALENDAR