BEGIN:VCALENDAR
VERSION:2.0
PRODID:-//Rosemont Community Association - ECPv6.15.10//NONSGML v1.0//EN
CALSCALE:GREGORIAN
METHOD:PUBLISH
X-WR-CALNAME:Rosemont Community Association
X-ORIGINAL-URL:https://rosemontca.org
X-WR-CALDESC:Events for Rosemont Community Association
REFRESH-INTERVAL;VALUE=DURATION:PT1H
X-Robots-Tag:noindex
X-PUBLISHED-TTL:PT1H
BEGIN:VTIMEZONE
TZID:America/Los_Angeles
BEGIN:DAYLIGHT
TZOFFSETFROM:-0800
TZOFFSETTO:-0700
TZNAME:PDT
DTSTART:20240310T100000
END:DAYLIGHT
BEGIN:STANDARD
TZOFFSETFROM:-0700
TZOFFSETTO:-0800
TZNAME:PST
DTSTART:20241103T090000
END:STANDARD
BEGIN:DAYLIGHT
TZOFFSETFROM:-0800
TZOFFSETTO:-0700
TZNAME:PDT
DTSTART:20250309T100000
END:DAYLIGHT
BEGIN:STANDARD
TZOFFSETFROM:-0700
TZOFFSETTO:-0800
TZNAME:PST
DTSTART:20251102T090000
END:STANDARD
BEGIN:DAYLIGHT
TZOFFSETFROM:-0800
TZOFFSETTO:-0700
TZNAME:PDT
DTSTART:20260308T100000
END:DAYLIGHT
BEGIN:STANDARD
TZOFFSETFROM:-0700
TZOFFSETTO:-0800
TZNAME:PST
DTSTART:20261101T090000
END:STANDARD
END:VTIMEZONE
BEGIN:VEVENT
DTSTART;TZID=America/Los_Angeles:20250718T150000
DTEND;TZID=America/Los_Angeles:20250718T190000
DTSTAMP:20260424T084154
CREATED:20250514T215422Z
LAST-MODIFIED:20250711T235136Z
UID:8215-1752850800-1752865200@rosemontca.org
SUMMARY:FAMILY SWIM NIGHTS IN ROSEMONT
DESCRIPTION:The Cordova Recreation & Park District is sponsoring three Family Swim Nights at the Rosemont High School Pool this summer — June 20\, July 18\, and August 8. The pool will be open from 3 pm to 7 pm and the fee is only $1 per person! Food trucks and local vendors will also be on hand. Thank you CRPD! https://cordovarpd.gov/programs/aquatics/ \nJune 20 – Celebrating water safety and First Responders\nJuly 18 – Celebrating local arts & music\nAugust 8 – Celebrate the end of summer with one last dip in the pool!
URL:https://rosemontca.org/event/family-swim-nights-in-rosemont/
LOCATION:Rosemont High School\, 9594 Kiefer Blvd\, Sacramento\, CA\, 95827\, United States
CATEGORIES:Community,Cordova Recreation & Park District
ATTACH;FMTTYPE=image/jpeg:https://rosemontca.org/wp-content/uploads/2025/05/Calendar-listing-1.jpg
END:VEVENT
END:VCALENDAR