BEGIN:VCALENDAR
VERSION:2.0
PRODID:-//Rosemont Community Association - ECPv6.15.10//NONSGML v1.0//EN
CALSCALE:GREGORIAN
METHOD:PUBLISH
X-ORIGINAL-URL:https://rosemontca.org
X-WR-CALDESC:Events for Rosemont Community Association
REFRESH-INTERVAL;VALUE=DURATION:PT1H
X-Robots-Tag:noindex
X-PUBLISHED-TTL:PT1H
BEGIN:VTIMEZONE
TZID:America/Los_Angeles
BEGIN:DAYLIGHT
TZOFFSETFROM:-0800
TZOFFSETTO:-0700
TZNAME:PDT
DTSTART:20240310T100000
END:DAYLIGHT
BEGIN:STANDARD
TZOFFSETFROM:-0700
TZOFFSETTO:-0800
TZNAME:PST
DTSTART:20241103T090000
END:STANDARD
BEGIN:DAYLIGHT
TZOFFSETFROM:-0800
TZOFFSETTO:-0700
TZNAME:PDT
DTSTART:20250309T100000
END:DAYLIGHT
BEGIN:STANDARD
TZOFFSETFROM:-0700
TZOFFSETTO:-0800
TZNAME:PST
DTSTART:20251102T090000
END:STANDARD
BEGIN:DAYLIGHT
TZOFFSETFROM:-0800
TZOFFSETTO:-0700
TZNAME:PDT
DTSTART:20260308T100000
END:DAYLIGHT
BEGIN:STANDARD
TZOFFSETFROM:-0700
TZOFFSETTO:-0800
TZNAME:PST
DTSTART:20261101T090000
END:STANDARD
END:VTIMEZONE
BEGIN:VEVENT
DTSTART;TZID=America/Los_Angeles:20250517T090000
DTEND;TZID=America/Los_Angeles:20250517T110000
DTSTAMP:20260424T090626
CREATED:20250428T215734Z
LAST-MODIFIED:20250428T215734Z
UID:8166-1747472400-1747479600@rosemontca.org
SUMMARY:Safetyville Pancake Palooza
DESCRIPTION:Get ready for a flippin’ good time at Safetyville’s first Pancake Palooza! Enjoy breakfast in front of the Capitol\, and then grab your helmets for a wheely fun time riding around Safetyville. They will be flipping flapjacks\, sizzling up sausage\, and dolling out drinks. \nWHEN: Saturday\, May 17\, 2025 9 am – 12 pm \nPancakes served from 9 – 11 am.\nVillage will remain open until 12 pm for biking. \nWHERE: Safetyville USA – 3909 Bradshaw Road\, Sacramento\, CA 95827 \nCOST: $10 Pre-Registration is required \n*ALL RIDERS (children and adults) MUST WEAR A HELMET when riding.
URL:https://rosemontca.org/event/safetyville-pancake-palooza/
LOCATION:Safetyville\, USA Sacramento\, 3909 Bradshaw Road\, Sacramento\, CA\, 95827\, United States
CATEGORIES:Community
ATTACH;FMTTYPE=image/jpeg:https://rosemontca.org/wp-content/uploads/2025/04/PancakePaloozaBanner.jpg
END:VEVENT
END:VCALENDAR