BEGIN:VCALENDAR
VERSION:2.0
PRODID:-//Rosemont Community Association - ECPv6.15.10//NONSGML v1.0//EN
CALSCALE:GREGORIAN
METHOD:PUBLISH
X-ORIGINAL-URL:https://rosemontca.org
X-WR-CALDESC:Events for Rosemont Community Association
REFRESH-INTERVAL;VALUE=DURATION:PT1H
X-Robots-Tag:noindex
X-PUBLISHED-TTL:PT1H
BEGIN:VTIMEZONE
TZID:America/Los_Angeles
BEGIN:DAYLIGHT
TZOFFSETFROM:-0800
TZOFFSETTO:-0700
TZNAME:PDT
DTSTART:20240310T100000
END:DAYLIGHT
BEGIN:STANDARD
TZOFFSETFROM:-0700
TZOFFSETTO:-0800
TZNAME:PST
DTSTART:20241103T090000
END:STANDARD
BEGIN:DAYLIGHT
TZOFFSETFROM:-0800
TZOFFSETTO:-0700
TZNAME:PDT
DTSTART:20250309T100000
END:DAYLIGHT
BEGIN:STANDARD
TZOFFSETFROM:-0700
TZOFFSETTO:-0800
TZNAME:PST
DTSTART:20251102T090000
END:STANDARD
BEGIN:DAYLIGHT
TZOFFSETFROM:-0800
TZOFFSETTO:-0700
TZNAME:PDT
DTSTART:20260308T100000
END:DAYLIGHT
BEGIN:STANDARD
TZOFFSETFROM:-0700
TZOFFSETTO:-0800
TZNAME:PST
DTSTART:20261101T090000
END:STANDARD
END:VTIMEZONE
BEGIN:VEVENT
DTSTART;TZID=America/Los_Angeles:20250903T150000
DTEND;TZID=America/Los_Angeles:20250903T190000
DTSTAMP:20260423T151304
CREATED:20250814T051207Z
LAST-MODIFIED:20250814T051207Z
UID:8509-1756911600-1756926000@rosemontca.org
SUMMARY:Rosemont Reads Fundraiser at Beach Hut Deli
DESCRIPTION:Bring the whole family\, a club\, and a ball … (or borrow ours)! \nPlay our Hole-in-One putting game to win tickets for our drawing! Play while you have dinner at the golf course. And\, of course\, we’ll have free books. Beach Hut Deli will donate 10% of food and beverage to the Rosemont Reads Summer Reading Challenge.\n(Students can drop off their Summer Reading Challenge forms at school or at the Rosemont Reads Table at the fundraiser).
URL:https://rosemontca.org/event/rosemont-reads-fundraiser-at-beach-hut-deli/
LOCATION:Cordova Golf Course\, 9425 Jackson Rd.\, Sacramento\, CA\, 95826\, United States
CATEGORIES:Community,Fundraiser
ATTACH;FMTTYPE=image/jpeg:https://rosemontca.org/wp-content/uploads/2025/08/RCA-Calendar.jpg
END:VEVENT
END:VCALENDAR