BEGIN:VCALENDAR
VERSION:2.0
PRODID:-//Rosemont Community Association - ECPv6.15.10//NONSGML v1.0//EN
CALSCALE:GREGORIAN
METHOD:PUBLISH
X-WR-CALNAME:Rosemont Community Association
X-ORIGINAL-URL:https://rosemontca.org
X-WR-CALDESC:Events for Rosemont Community Association
REFRESH-INTERVAL;VALUE=DURATION:PT1H
X-Robots-Tag:noindex
X-PUBLISHED-TTL:PT1H
BEGIN:VTIMEZONE
TZID:America/Los_Angeles
BEGIN:DAYLIGHT
TZOFFSETFROM:-0800
TZOFFSETTO:-0700
TZNAME:PDT
DTSTART:20140309T100000
END:DAYLIGHT
BEGIN:STANDARD
TZOFFSETFROM:-0700
TZOFFSETTO:-0800
TZNAME:PST
DTSTART:20141102T090000
END:STANDARD
BEGIN:DAYLIGHT
TZOFFSETFROM:-0800
TZOFFSETTO:-0700
TZNAME:PDT
DTSTART:20150308T100000
END:DAYLIGHT
BEGIN:STANDARD
TZOFFSETFROM:-0700
TZOFFSETTO:-0800
TZNAME:PST
DTSTART:20151101T090000
END:STANDARD
BEGIN:DAYLIGHT
TZOFFSETFROM:-0800
TZOFFSETTO:-0700
TZNAME:PDT
DTSTART:20160313T100000
END:DAYLIGHT
BEGIN:STANDARD
TZOFFSETFROM:-0700
TZOFFSETTO:-0800
TZNAME:PST
DTSTART:20161106T090000
END:STANDARD
BEGIN:DAYLIGHT
TZOFFSETFROM:-0800
TZOFFSETTO:-0700
TZNAME:PDT
DTSTART:20170312T100000
END:DAYLIGHT
BEGIN:STANDARD
TZOFFSETFROM:-0700
TZOFFSETTO:-0800
TZNAME:PST
DTSTART:20171105T090000
END:STANDARD
BEGIN:DAYLIGHT
TZOFFSETFROM:-0800
TZOFFSETTO:-0700
TZNAME:PDT
DTSTART:20180311T100000
END:DAYLIGHT
BEGIN:STANDARD
TZOFFSETFROM:-0700
TZOFFSETTO:-0800
TZNAME:PST
DTSTART:20181104T090000
END:STANDARD
BEGIN:DAYLIGHT
TZOFFSETFROM:-0800
TZOFFSETTO:-0700
TZNAME:PDT
DTSTART:20190310T100000
END:DAYLIGHT
BEGIN:STANDARD
TZOFFSETFROM:-0700
TZOFFSETTO:-0800
TZNAME:PST
DTSTART:20191103T090000
END:STANDARD
BEGIN:DAYLIGHT
TZOFFSETFROM:-0800
TZOFFSETTO:-0700
TZNAME:PDT
DTSTART:20200308T100000
END:DAYLIGHT
BEGIN:STANDARD
TZOFFSETFROM:-0700
TZOFFSETTO:-0800
TZNAME:PST
DTSTART:20201101T090000
END:STANDARD
BEGIN:DAYLIGHT
TZOFFSETFROM:-0800
TZOFFSETTO:-0700
TZNAME:PDT
DTSTART:20210314T100000
END:DAYLIGHT
BEGIN:STANDARD
TZOFFSETFROM:-0700
TZOFFSETTO:-0800
TZNAME:PST
DTSTART:20211107T090000
END:STANDARD
BEGIN:DAYLIGHT
TZOFFSETFROM:-0800
TZOFFSETTO:-0700
TZNAME:PDT
DTSTART:20220313T100000
END:DAYLIGHT
BEGIN:STANDARD
TZOFFSETFROM:-0700
TZOFFSETTO:-0800
TZNAME:PST
DTSTART:20221106T090000
END:STANDARD
BEGIN:DAYLIGHT
TZOFFSETFROM:-0800
TZOFFSETTO:-0700
TZNAME:PDT
DTSTART:20230312T100000
END:DAYLIGHT
BEGIN:STANDARD
TZOFFSETFROM:-0700
TZOFFSETTO:-0800
TZNAME:PST
DTSTART:20231105T090000
END:STANDARD
BEGIN:DAYLIGHT
TZOFFSETFROM:-0800
TZOFFSETTO:-0700
TZNAME:PDT
DTSTART:20240310T100000
END:DAYLIGHT
BEGIN:STANDARD
TZOFFSETFROM:-0700
TZOFFSETTO:-0800
TZNAME:PST
DTSTART:20241103T090000
END:STANDARD
BEGIN:DAYLIGHT
TZOFFSETFROM:-0800
TZOFFSETTO:-0700
TZNAME:PDT
DTSTART:20250309T100000
END:DAYLIGHT
BEGIN:STANDARD
TZOFFSETFROM:-0700
TZOFFSETTO:-0800
TZNAME:PST
DTSTART:20251102T090000
END:STANDARD
BEGIN:DAYLIGHT
TZOFFSETFROM:-0800
TZOFFSETTO:-0700
TZNAME:PDT
DTSTART:20260308T100000
END:DAYLIGHT
BEGIN:STANDARD
TZOFFSETFROM:-0700
TZOFFSETTO:-0800
TZNAME:PST
DTSTART:20261101T090000
END:STANDARD
END:VTIMEZONE
BEGIN:VEVENT
DTSTART;TZID=America/Los_Angeles:20250508T183000
DTEND;TZID=America/Los_Angeles:20250508T200000
DTSTAMP:20260424T021504
CREATED:20250422T220014Z
LAST-MODIFIED:20250422T220014Z
UID:8142-1746729000-1746734400@rosemontca.org
SUMMARY:Rosemont Annual Meeting
DESCRIPTION:The Rosemont Community Association invites you to attend our annual meeting on Thursday\, May 8th at Einstein Middle School\n(9325 Mirandy Dr\, Sacramento\, CA 95826) \n6:30pm: Doors Open\n6:30pm – 7:00pm: Community Organizations will be tabling\n7:00pm: Meeting begins promptly (Board Election\, Speakers\, Q&A) \nThis is a town hall meeting that will provide an overview of our organization and how it benefits the Rosemont community. There will also be other community organizations tabling at this event including law enforcement officials and representatives from Sacramento County. We hope that you can attend this free and informative event. Get the scoop on upcoming RCA Events and Programs\, New Businesses in the area\, and much more! \nRefreshments provided. \nWe hope to see you there! \nDate: Thursday\, May 8th\nTime: 6:30 pm\nPlace: 9325 Mirandy Dr\, Sacramento\, CA 95826
URL:https://rosemontca.org/event/rosemont-annual-meeting/
LOCATION:Einstein Middle School\, 9325 Mirandy
CATEGORIES:Board Meeting
ATTACH;FMTTYPE=image/jpeg:https://rosemontca.org/wp-content/uploads/2025/04/AnnualMtng2025.jpg
END:VEVENT
BEGIN:VEVENT
DTSTART;TZID=America/Los_Angeles:20221103T190000
DTEND;TZID=America/Los_Angeles:20221103T203000
DTSTAMP:20260424T021504
CREATED:20210909T014142Z
LAST-MODIFIED:20210909T014142Z
UID:6268-1667502000-1667507400@rosemontca.org
SUMMARY:RCA Monthly Board Meeting
DESCRIPTION:
URL:https://rosemontca.org/event/rca-monthly-board-meeting-29/
LOCATION:Atonement Church\, 9242 Kiefer Blvd\, Sacramento\, CA\, 95826\, United States
CATEGORIES:Board Meeting
END:VEVENT
BEGIN:VEVENT
DTSTART;TZID=America/Los_Angeles:20221006T190000
DTEND;TZID=America/Los_Angeles:20221006T203000
DTSTAMP:20260424T021504
CREATED:20210909T013822Z
LAST-MODIFIED:20210909T013822Z
UID:6264-1665082800-1665088200@rosemontca.org
SUMMARY:RCA Monthly Board Meeting
DESCRIPTION:
URL:https://rosemontca.org/event/rca-monthly-board-meeting-27/
LOCATION:Atonement Church\, 9242 Kiefer Blvd\, Sacramento\, CA\, 95826\, United States
CATEGORIES:Board Meeting
END:VEVENT
BEGIN:VEVENT
DTSTART;TZID=America/Los_Angeles:20220901T190000
DTEND;TZID=America/Los_Angeles:20220901T203000
DTSTAMP:20260424T021504
CREATED:20210909T013437Z
LAST-MODIFIED:20210909T013621Z
UID:6262-1662058800-1662064200@rosemontca.org
SUMMARY:RCA Monthly Board Meeting
DESCRIPTION:
URL:https://rosemontca.org/event/rca-monthly-board-meeting-26/
LOCATION:Atonement Church\, 9242 Kiefer Blvd\, Sacramento\, CA\, 95826\, United States
CATEGORIES:Board Meeting
END:VEVENT
BEGIN:VEVENT
DTSTART;TZID=America/Los_Angeles:20220804T190000
DTEND;TZID=America/Los_Angeles:20220804T203000
DTSTAMP:20260424T021504
CREATED:20210909T013159Z
LAST-MODIFIED:20210909T013159Z
UID:6260-1659639600-1659645000@rosemontca.org
SUMMARY:RCA Monthly Board Meeting
DESCRIPTION:
URL:https://rosemontca.org/event/rca-monthly-board-meeting-25/
LOCATION:Atonement Church\, 9242 Kiefer Blvd\, Sacramento\, CA\, 95826\, United States
CATEGORIES:Board Meeting
END:VEVENT
BEGIN:VEVENT
DTSTART;TZID=America/Los_Angeles:20220707T190000
DTEND;TZID=America/Los_Angeles:20220707T203000
DTSTAMP:20260424T021504
CREATED:20210909T013107Z
LAST-MODIFIED:20210909T013115Z
UID:6258-1657220400-1657225800@rosemontca.org
SUMMARY:RCA Monthly Board Meeting
DESCRIPTION:
URL:https://rosemontca.org/event/rca-monthly-board-meeting-24/
LOCATION:Atonement Church\, 9242 Kiefer Blvd\, Sacramento\, CA\, 95826\, United States
CATEGORIES:Board Meeting
END:VEVENT
BEGIN:VEVENT
DTSTART;TZID=America/Los_Angeles:20220602T190000
DTEND;TZID=America/Los_Angeles:20220602T203000
DTSTAMP:20260424T021504
CREATED:20210909T013028Z
LAST-MODIFIED:20210909T014331Z
UID:6256-1654196400-1654201800@rosemontca.org
SUMMARY:RCA Monthly Board Meeting
DESCRIPTION:
URL:https://rosemontca.org/event/rca-monthly-board-meeting-23/
LOCATION:Atonement Church\, 9242 Kiefer Blvd\, Sacramento\, CA\, 95826\, United States
CATEGORIES:Board Meeting
END:VEVENT
BEGIN:VEVENT
DTSTART;TZID=America/Los_Angeles:20220505T190000
DTEND;TZID=America/Los_Angeles:20220505T203000
DTSTAMP:20260424T021504
CREATED:20210909T012933Z
LAST-MODIFIED:20210909T012933Z
UID:6254-1651777200-1651782600@rosemontca.org
SUMMARY:RCA Monthly Board Meeting
DESCRIPTION:
URL:https://rosemontca.org/event/rca-monthly-board-meeting-22/
LOCATION:Atonement Church\, 9242 Kiefer Blvd\, Sacramento\, CA\, 95826\, United States
CATEGORIES:Board Meeting
END:VEVENT
BEGIN:VEVENT
DTSTART;TZID=America/Los_Angeles:20220407T190000
DTEND;TZID=America/Los_Angeles:20220407T203000
DTSTAMP:20260424T021504
CREATED:20210909T012837Z
LAST-MODIFIED:20210909T012837Z
UID:6252-1649358000-1649363400@rosemontca.org
SUMMARY:RCA Monthly Board Meeting
DESCRIPTION:
URL:https://rosemontca.org/event/rca-monthly-board-meeting-21/
LOCATION:Atonement Church\, 9242 Kiefer Blvd\, Sacramento\, CA\, 95826\, United States
CATEGORIES:Board Meeting
END:VEVENT
BEGIN:VEVENT
DTSTART;TZID=America/Los_Angeles:20220303T190000
DTEND;TZID=America/Los_Angeles:20220303T203000
DTSTAMP:20260424T021504
CREATED:20210909T012356Z
LAST-MODIFIED:20210909T012356Z
UID:6246-1646334000-1646339400@rosemontca.org
SUMMARY:RCA Monthly Board Meeting
DESCRIPTION:
URL:https://rosemontca.org/event/rca-monthly-board-meeting-20/
LOCATION:Atonement Church\, 9242 Kiefer Blvd\, Sacramento\, CA\, 95826\, United States
CATEGORIES:Board Meeting
END:VEVENT
BEGIN:VEVENT
DTSTART;TZID=America/Los_Angeles:20220203T190000
DTEND;TZID=America/Los_Angeles:20220203T203000
DTSTAMP:20260424T021504
CREATED:20210909T012240Z
LAST-MODIFIED:20210909T012307Z
UID:6244-1643914800-1643920200@rosemontca.org
SUMMARY:RCA Monthly Board Meeting
DESCRIPTION:
URL:https://rosemontca.org/event/rca-monthly-board-meeting-19/
LOCATION:Atonement Church\, 9242 Kiefer Blvd\, Sacramento\, CA\, 95826\, United States
CATEGORIES:Board Meeting
END:VEVENT
BEGIN:VEVENT
DTSTART;TZID=America/Los_Angeles:20220106T190000
DTEND;TZID=America/Los_Angeles:20220106T203000
DTSTAMP:20260424T021504
CREATED:20210909T011640Z
LAST-MODIFIED:20210909T011640Z
UID:6241-1641495600-1641501000@rosemontca.org
SUMMARY:RCA Monthly Board Meeting
DESCRIPTION:
URL:https://rosemontca.org/event/rca-monthly-board-meeting-18/
LOCATION:Atonement Church\, 9242 Kiefer Blvd\, Sacramento\, CA\, 95826\, United States
CATEGORIES:Board Meeting
END:VEVENT
BEGIN:VEVENT
DTSTART;TZID=America/Los_Angeles:20211202T190000
DTEND;TZID=America/Los_Angeles:20211202T203000
DTSTAMP:20260424T021504
CREATED:20210909T011547Z
LAST-MODIFIED:20210909T011547Z
UID:6239-1638471600-1638477000@rosemontca.org
SUMMARY:RCA Monthly Board Meeting
DESCRIPTION:
URL:https://rosemontca.org/event/rca-monthly-board-meeting-17/
LOCATION:Atonement Church\, 9242 Kiefer Blvd\, Sacramento\, CA\, 95826\, United States
CATEGORIES:Board Meeting
END:VEVENT
BEGIN:VEVENT
DTSTART;TZID=America/Los_Angeles:20211104T190000
DTEND;TZID=America/Los_Angeles:20211104T203000
DTSTAMP:20260424T021504
CREATED:20210909T011303Z
LAST-MODIFIED:20210909T011303Z
UID:6235-1636052400-1636057800@rosemontca.org
SUMMARY:RCA Monthly Board Meeting
DESCRIPTION:
URL:https://rosemontca.org/event/rca-monthly-board-meeting-16/
LOCATION:Atonement Church\, 9242 Kiefer Blvd\, Sacramento\, CA\, 95826\, United States
CATEGORIES:Board Meeting
END:VEVENT
BEGIN:VEVENT
DTSTART;TZID=America/Los_Angeles:20211009T100000
DTEND;TZID=America/Los_Angeles:20211009T140000
DTSTAMP:20260424T021504
CREATED:20210909T011440Z
LAST-MODIFIED:20210909T011440Z
UID:6237-1633773600-1633788000@rosemontca.org
SUMMARY:RCA Annual Community Celebration In the Park
DESCRIPTION:
URL:https://rosemontca.org/event/rca-annual-community-celebration-in-the-park/
LOCATION:Rosemont Community Park\, 9326 Americana Way\, Sacramento\, CA\, 95826\, United States
CATEGORIES:Board Meeting
END:VEVENT
BEGIN:VEVENT
DTSTART;TZID=America/Los_Angeles:20211007T190000
DTEND;TZID=America/Los_Angeles:20211007T203000
DTSTAMP:20260424T021504
CREATED:20210909T011142Z
LAST-MODIFIED:20210909T011142Z
UID:6233-1633633200-1633638600@rosemontca.org
SUMMARY:RCA Monthly Board Meeting
DESCRIPTION:
URL:https://rosemontca.org/event/rca-monthly-board-meeting-15/
LOCATION:Atonement Church\, 9242 Kiefer Blvd\, Sacramento\, CA\, 95826\, United States
CATEGORIES:Board Meeting
END:VEVENT
BEGIN:VEVENT
DTSTART;TZID=America/Los_Angeles:20210902T190000
DTEND;TZID=America/Los_Angeles:20210902T203000
DTSTAMP:20260424T021504
CREATED:20210909T014017Z
LAST-MODIFIED:20210909T020518Z
UID:6266-1630609200-1630614600@rosemontca.org
SUMMARY:RCA Monthly Board Meeting
DESCRIPTION:
URL:https://rosemontca.org/event/rca-monthly-board-meeting-28/
LOCATION:Atonement Church\, 9242 Kiefer Blvd\, Sacramento\, CA\, 95826\, United States
CATEGORIES:Board Meeting
END:VEVENT
BEGIN:VEVENT
DTSTART;TZID=America/Los_Angeles:20160303T190000
DTEND;TZID=America/Los_Angeles:20160303T210000
DTSTAMP:20260424T021504
CREATED:20160107T040032Z
LAST-MODIFIED:20160107T040220Z
UID:1748-1457031600-1457038800@rosemontca.org
SUMMARY:RCA Board Meeting
DESCRIPTION:Monthly RCA Board meeting to discuss upcoming community events and the current status of RCA programs. All are welcome. Check the RCA website the week prior for additional details. \nPast Board Meeting agendas and minutes can be found on The Board webpage of the RCA website.
URL:https://rosemontca.org/event/rca-board-meeting-11/
LOCATION:Atonement Church\, 9242 Kiefer Blvd\, Sacramento\, CA\, 95826\, United States
CATEGORIES:Board Meeting
END:VEVENT
BEGIN:VEVENT
DTSTART;TZID=America/Los_Angeles:20160204T190000
DTEND;TZID=America/Los_Angeles:20160204T210000
DTSTAMP:20260424T021504
CREATED:20160107T010014Z
LAST-MODIFIED:20160107T035852Z
UID:1738-1454612400-1454619600@rosemontca.org
SUMMARY:RCA Board Meeting
DESCRIPTION:Monthly RCA Board meeting to discuss upcoming community events and the current status of RCA programs. All are welcome. Check the RCA website the week prior for additional details. \nPast Board Meeting agendas and minutes can be found on The Board webpage of the RCA website.
URL:https://rosemontca.org/event/rca-board-meeting-10/
LOCATION:Atonement Church\, 9242 Kiefer Blvd\, Sacramento\, CA\, 95826\, United States
CATEGORIES:Board Meeting
END:VEVENT
BEGIN:VEVENT
DTSTART;TZID=America/Los_Angeles:20160107T190000
DTEND;TZID=America/Los_Angeles:20160107T210000
DTSTAMP:20260424T021504
CREATED:20160107T005902Z
LAST-MODIFIED:20160107T035817Z
UID:1737-1452193200-1452200400@rosemontca.org
SUMMARY:RCA Board Meeting
DESCRIPTION:Monthly RCA Board meeting to discuss upcoming community events and the current status of RCA programs. All are welcome. Check the RCA website the week prior for additional details. \nPast Board Meeting agendas and minutes can be found on The Board webpage of the RCA website.
URL:https://rosemontca.org/event/rca-board-meeting-9/
LOCATION:Atonement Church\, 9242 Kiefer Blvd\, Sacramento\, CA\, 95826\, United States
CATEGORIES:Board Meeting
END:VEVENT
BEGIN:VEVENT
DTSTART;TZID=America/Los_Angeles:20151203T190000
DTEND;TZID=America/Los_Angeles:20151203T210000
DTSTAMP:20260424T021504
CREATED:20150423T212600Z
LAST-MODIFIED:20150423T212600Z
UID:766-1449169200-1449176400@rosemontca.org
SUMMARY:RCA Board Meeting
DESCRIPTION:Monthly RCA Board meeting to discuss upcoming community events and the current status of RCA programs. All are welcome. Check the RCA website the week prior for additional details.
URL:https://rosemontca.org/event/rca-board-meeting-8/
LOCATION:Atonement Church\, 9242 Kiefer Blvd\, Sacramento\, CA\, 95826\, United States
CATEGORIES:Board Meeting
ATTACH;FMTTYPE=image/jpeg:https://rosemontca.org/wp-content/uploads/2015/04/011.jpg
END:VEVENT
BEGIN:VEVENT
DTSTART;TZID=America/Los_Angeles:20151105T190000
DTEND;TZID=America/Los_Angeles:20151105T210000
DTSTAMP:20260424T021504
CREATED:20150423T212446Z
LAST-MODIFIED:20150423T212446Z
UID:765-1446750000-1446757200@rosemontca.org
SUMMARY:RCA Board Meeting
DESCRIPTION:Monthly RCA Board meeting to discuss upcoming community events and the current status of RCA programs. All are welcome. Check the RCA website the week prior for additional details.
URL:https://rosemontca.org/event/rca-board-meeting-7/
LOCATION:Atonement Church\, 9242 Kiefer Blvd\, Sacramento\, CA\, 95826\, United States
CATEGORIES:Board Meeting
ATTACH;FMTTYPE=image/jpeg:https://rosemontca.org/wp-content/uploads/2015/04/046.jpg
END:VEVENT
BEGIN:VEVENT
DTSTART;TZID=America/Los_Angeles:20151001T190000
DTEND;TZID=America/Los_Angeles:20151001T210000
DTSTAMP:20260424T021504
CREATED:20150423T211730Z
LAST-MODIFIED:20150423T211730Z
UID:760-1443726000-1443733200@rosemontca.org
SUMMARY:RCA Board Meeting
DESCRIPTION:Monthly RCA Board meeting to discuss upcoming community events and the current status of RCA programs. All are welcome. Check the RCA website the week prior for additional details.
URL:https://rosemontca.org/event/rca-board-meeting-6/
LOCATION:Atonement Church\, 9242 Kiefer Blvd\, Sacramento\, CA\, 95826\, United States
CATEGORIES:Board Meeting
ATTACH;FMTTYPE=image/jpeg:https://rosemontca.org/wp-content/uploads/2015/04/025.jpg
END:VEVENT
BEGIN:VEVENT
DTSTART;TZID=America/Los_Angeles:20150903T190000
DTEND;TZID=America/Los_Angeles:20150903T210000
DTSTAMP:20260424T021504
CREATED:20150423T210810Z
LAST-MODIFIED:20150423T210810Z
UID:756-1441306800-1441314000@rosemontca.org
SUMMARY:RCA Board Meeting
DESCRIPTION:Monthly RCA Board meeting to discuss upcoming community events and the current status of RCA programs. All are welcome. Check the RCA website the week prior for additional details.
URL:https://rosemontca.org/event/rca-board-meeting-5/
LOCATION:Atonement Church\, 9242 Kiefer Blvd\, Sacramento\, CA\, 95826\, United States
CATEGORIES:Board Meeting
ATTACH;FMTTYPE=image/jpeg:https://rosemontca.org/wp-content/uploads/2015/04/036.jpg
END:VEVENT
BEGIN:VEVENT
DTSTART;TZID=America/Los_Angeles:20150806T190000
DTEND;TZID=America/Los_Angeles:20150806T210000
DTSTAMP:20260424T021504
CREATED:20150421T223235Z
LAST-MODIFIED:20150421T223235Z
UID:706-1438887600-1438894800@rosemontca.org
SUMMARY:RCA Board Meeting
DESCRIPTION:Monthly RCA Board meeting to discuss upcoming community events and the current status of RCA programs. All are welcome. Check the RCA website the week prior for additional details.
URL:https://rosemontca.org/event/rca-board-meeting-4/
LOCATION:Atonement Church\, 9242 Kiefer Blvd\, Sacramento\, CA\, 95826\, United States
CATEGORIES:Board Meeting
ATTACH;FMTTYPE=image/jpeg:https://rosemontca.org/wp-content/uploads/2015/04/005.jpg
END:VEVENT
BEGIN:VEVENT
DTSTART;TZID=America/Los_Angeles:20150702T190000
DTEND;TZID=America/Los_Angeles:20150702T210000
DTSTAMP:20260424T021504
CREATED:20150421T221939Z
LAST-MODIFIED:20150421T221939Z
UID:703-1435863600-1435870800@rosemontca.org
SUMMARY:RCA Board Meeting
DESCRIPTION:Monthly RCA Board meeting to discuss upcoming community events and the current status of RCA programs. All are welcome. Check the RCA website the week prior for additional details.
URL:https://rosemontca.org/event/rca-board-meeting-3/
LOCATION:Atonement Church\, 9242 Kiefer Blvd\, Sacramento\, CA\, 95826\, United States
CATEGORIES:Board Meeting
ATTACH;FMTTYPE=image/jpeg:https://rosemontca.org/wp-content/uploads/2015/04/IMG_1014-1.jpg
END:VEVENT
BEGIN:VEVENT
DTSTART;TZID=America/Los_Angeles:20150604T190000
DTEND;TZID=America/Los_Angeles:20150604T210000
DTSTAMP:20260424T021504
CREATED:20150421T220547Z
LAST-MODIFIED:20150421T220913Z
UID:699-1433444400-1433451600@rosemontca.org
SUMMARY:RCA Board Meeting
DESCRIPTION:Monthly RCA Board meeting to discuss upcoming community events and the current status of RCA programs. All are welcome. Check the RCA website the week prior for additional details.
URL:https://rosemontca.org/event/rca-board-meeting-2/
LOCATION:Atonement Church\, 9242 Kiefer Blvd\, Sacramento\, CA\, 95826\, United States
CATEGORIES:Board Meeting
ATTACH;FMTTYPE=image/jpeg:https://rosemontca.org/wp-content/uploads/2015/04/IMG_1023-1.jpg
END:VEVENT
BEGIN:VEVENT
DTSTART;TZID=America/Los_Angeles:20150513T183000
DTEND;TZID=America/Los_Angeles:20150513T210000
DTSTAMP:20260424T021504
CREATED:20150401T070521Z
LAST-MODIFIED:20150429T001931Z
UID:41-1431541800-1431550800@rosemontca.org
SUMMARY:Annual Membership Meeting
DESCRIPTION:The RCA Annual Membership Meeting will be Wednesday\, May 13th at the Rosemont High School cafeteria and will begin at 6:30 PM. Some of your local elected representatives will be in attendance so come join us to discuss the pressing issues facing Rosemont. \nThis slideshow requires JavaScript. \n 
URL:https://rosemontca.org/event/annual-general-membership-meeting/
LOCATION:Rosemont High School cafeteria\, Rosemont High School\, 9594 Kiefer Boulevard\,\, Sacramento\, CA\, 95827\, United States
CATEGORIES:Membership
ATTACH;FMTTYPE=image/jpeg:https://rosemontca.org/wp-content/uploads/2015/03/DSC_0844.jpg
END:VEVENT
BEGIN:VEVENT
DTSTART;TZID=America/Los_Angeles:20150507T190000
DTEND;TZID=America/Los_Angeles:20150507T210000
DTSTAMP:20260424T021504
CREATED:20150401T070100Z
LAST-MODIFIED:20150421T220959Z
UID:605-1431025200-1431032400@rosemontca.org
SUMMARY:RCA Board Meeting
DESCRIPTION:Hearing on Kiefer Banners Set\nRCA together with the County has been working on a way to help alert our community to major events happening here\, and we have proposed a plan to install a banner system over Kiefer Blvd. just west of South Port Dr. The banners will announe upcomming events in Rosemont. To comply with County procedures\, there will be a public hearing on the plan to be held on Thursday\, May 7 at 7:00pm at the start of the monthly RCA Board meeting at Atonement Church\, 9242 Kiefer Blvd. All are invited to learn more about the proposal and offer your thoughts.
URL:https://rosemontca.org/event/rca-board-meeting/
LOCATION:Atonement Church\, 9242 Kiefer Blvd\, Sacramento\, CA\, 95826\, United States
CATEGORIES:Board Meeting
ATTACH;FMTTYPE=image/jpeg:https://rosemontca.org/wp-content/uploads/2015/04/IMG_1023-1.jpg
END:VEVENT
END:VCALENDAR