BEGIN:VCALENDAR
VERSION:2.0
PRODID:-//Rosemont Community Association - ECPv6.15.10//NONSGML v1.0//EN
CALSCALE:GREGORIAN
METHOD:PUBLISH
X-WR-CALNAME:Rosemont Community Association
X-ORIGINAL-URL:https://rosemontca.org
X-WR-CALDESC:Events for Rosemont Community Association
REFRESH-INTERVAL;VALUE=DURATION:PT1H
X-Robots-Tag:noindex
X-PUBLISHED-TTL:PT1H
BEGIN:VTIMEZONE
TZID:America/Los_Angeles
BEGIN:DAYLIGHT
TZOFFSETFROM:-0800
TZOFFSETTO:-0700
TZNAME:PDT
DTSTART:20160313T100000
END:DAYLIGHT
BEGIN:STANDARD
TZOFFSETFROM:-0700
TZOFFSETTO:-0800
TZNAME:PST
DTSTART:20161106T090000
END:STANDARD
BEGIN:DAYLIGHT
TZOFFSETFROM:-0800
TZOFFSETTO:-0700
TZNAME:PDT
DTSTART:20170312T100000
END:DAYLIGHT
BEGIN:STANDARD
TZOFFSETFROM:-0700
TZOFFSETTO:-0800
TZNAME:PST
DTSTART:20171105T090000
END:STANDARD
BEGIN:DAYLIGHT
TZOFFSETFROM:-0800
TZOFFSETTO:-0700
TZNAME:PDT
DTSTART:20180311T100000
END:DAYLIGHT
BEGIN:STANDARD
TZOFFSETFROM:-0700
TZOFFSETTO:-0800
TZNAME:PST
DTSTART:20181104T090000
END:STANDARD
END:VTIMEZONE
BEGIN:VEVENT
DTSTART;TZID=America/Los_Angeles:20171102T190000
DTEND;TZID=America/Los_Angeles:20171102T210000
DTSTAMP:20260425T050421
CREATED:20170221T220352Z
LAST-MODIFIED:20170221T220352Z
UID:2864-1509649200-1509656400@rosemontca.org
SUMMARY:RCA Board Meeting
DESCRIPTION:
URL:https://rosemontca.org/event/rca-board-meeting-21/
LOCATION:Atonement Church\, 9242 Kiefer Blvd.
END:VEVENT
BEGIN:VEVENT
DTSTART;TZID=America/Los_Angeles:20171024T190000
DTEND;TZID=America/Los_Angeles:20171024T203000
DTSTAMP:20260425T050421
CREATED:20170221T215940Z
LAST-MODIFIED:20170221T215940Z
UID:2861-1508871600-1508877000@rosemontca.org
SUMMARY:Personal Finance Workshop on Health Insurance & Long Term Care Coverage
DESCRIPTION: – Free\, but sign up at info@rosemontca.org \n 
URL:https://rosemontca.org/event/personal-finance-workshop-health-insurance-long-term-care-coverage/
LOCATION:Atonement Church\, 9242 Kiefer Blvd.
END:VEVENT
BEGIN:VEVENT
DTSTART;TZID=America/Los_Angeles:20171014T084500
DTEND;TZID=America/Los_Angeles:20171014T110000
DTSTAMP:20260425T050421
CREATED:20170221T220119Z
LAST-MODIFIED:20170221T220119Z
UID:2862-1507970700-1507978800@rosemontca.org
SUMMARY:Kiefer Cleanup
DESCRIPTION:Join your neighbors and help keep our main street looking decent. Just bring your gloves. \n Meet at Atonement Church\, 9242 Kiefer Blvd.
URL:https://rosemontca.org/event/kiefer-cleanup-10/
LOCATION:CA
END:VEVENT
BEGIN:VEVENT
DTSTART;TZID=America/Los_Angeles:20171006T170000
DTEND;TZID=America/Los_Angeles:20171006T200000
DTSTAMP:20260425T050421
CREATED:20170221T224849Z
LAST-MODIFIED:20170221T224849Z
UID:2879-1507309200-1507320000@rosemontca.org
SUMMARY:Rosemont Food Truck Fest
DESCRIPTION:Come out with your family and friends and enjoy a  fun evening with great food
URL:https://rosemontca.org/event/rosemont-food-truck-fest-7/
LOCATION:Rosemont Community Park\, 9326 Americana Way\, Sacramento\, CA\, 95826\, United States
END:VEVENT
BEGIN:VEVENT
DTSTART;TZID=America/Los_Angeles:20171005T190000
DTEND;TZID=America/Los_Angeles:20171005T210000
DTSTAMP:20260425T050421
CREATED:20170221T220455Z
LAST-MODIFIED:20170221T220455Z
UID:2865-1507230000-1507237200@rosemontca.org
SUMMARY:RCA Board Meeting
DESCRIPTION:
URL:https://rosemontca.org/event/rca-board-meeting-22/
LOCATION:Atonement Church\, 9242 Kiefer Blvd.
END:VEVENT
BEGIN:VEVENT
DTSTART;TZID=America/Los_Angeles:20170926T190000
DTEND;TZID=America/Los_Angeles:20170926T203000
DTSTAMP:20260425T050421
CREATED:20170221T215808Z
LAST-MODIFIED:20170221T215808Z
UID:2860-1506452400-1506457800@rosemontca.org
SUMMARY:Personal Finance Workshop on Identity Theft & Computer Security
DESCRIPTION:Free\, but sign up at info@rosemontca.org \n 
URL:https://rosemontca.org/event/personal-finance-workshop-identity-theft-computer-security/
LOCATION:Atonement Church\, 9242 Kiefer Blvd.
END:VEVENT
BEGIN:VEVENT
DTSTART;TZID=America/Los_Angeles:20170907T190000
DTEND;TZID=America/Los_Angeles:20170907T210000
DTSTAMP:20260425T050421
CREATED:20170221T220611Z
LAST-MODIFIED:20170221T220611Z
UID:2866-1504810800-1504818000@rosemontca.org
SUMMARY:RCA Board Meeting
DESCRIPTION:
URL:https://rosemontca.org/event/rca-board-meeting-23/
LOCATION:Atonement Church\, 9242 Kiefer Blvd.
END:VEVENT
BEGIN:VEVENT
DTSTART;TZID=America/Los_Angeles:20170901T170000
DTEND;TZID=America/Los_Angeles:20170901T200000
DTSTAMP:20260425T050421
CREATED:20170221T224710Z
LAST-MODIFIED:20170221T224710Z
UID:2878-1504285200-1504296000@rosemontca.org
SUMMARY:Rosemont Food Truck Fest
DESCRIPTION:Come out with your family and friends and enjoy a fun evening in the park with great food
URL:https://rosemontca.org/event/rosemont-food-truck-fest-6/
LOCATION:CA
END:VEVENT
BEGIN:VEVENT
DTSTART;TZID=America/Los_Angeles:20170812T090000
DTEND;TZID=America/Los_Angeles:20170812T130000
DTSTAMP:20260425T050421
CREATED:20170420T215213Z
LAST-MODIFIED:20170420T215213Z
UID:3081-1502528400-1502542800@rosemontca.org
SUMMARY:Celebration of Community
DESCRIPTION:Enjoy Rosemont’s 9th annual Celebration of Community featuring informational booths and displays\, rides\, entertainment\, games\, free food\, and lots of fun for the whole family.
URL:https://rosemontca.org/event/celebration-community-2/
LOCATION:Rosemont Community Park\, 9326 Americana Way\, Sacramento\, CA\, 95826\, United States
END:VEVENT
BEGIN:VEVENT
DTSTART;TZID=America/Los_Angeles:20170804T170000
DTEND;TZID=America/Los_Angeles:20170804T200000
DTSTAMP:20260425T050421
CREATED:20170221T224154Z
LAST-MODIFIED:20170221T224238Z
UID:2876-1501866000-1501876800@rosemontca.org
SUMMARY:Rosemont Food Truck Fest
DESCRIPTION:Come out with your family and friends and enjoy a fun evening in the park with great food.
URL:https://rosemontca.org/event/rosemont-food-truck-fest-4/
LOCATION:Rosemont Community Park\, 9326 Americana Way\, Sacramento\, CA\, 95826\, United States
END:VEVENT
BEGIN:VEVENT
DTSTART;TZID=America/Los_Angeles:20170803T190000
DTEND;TZID=America/Los_Angeles:20170803T210000
DTSTAMP:20260425T050421
CREATED:20170221T220712Z
LAST-MODIFIED:20170221T220712Z
UID:2867-1501786800-1501794000@rosemontca.org
SUMMARY:RCA Board Meeting
DESCRIPTION:
URL:https://rosemontca.org/event/rca-board-meeting-24/
LOCATION:Atonement Church\, 9242 Kiefer Blvd.
END:VEVENT
BEGIN:VEVENT
DTSTART;TZID=America/Los_Angeles:20170725T190000
DTEND;TZID=America/Los_Angeles:20170725T203000
DTSTAMP:20260425T050421
CREATED:20170221T215644Z
LAST-MODIFIED:20170221T215644Z
UID:2859-1501009200-1501014600@rosemontca.org
SUMMARY:Personal Finance Workshop on Retirement Planning
DESCRIPTION:Free\, but sign up at info@rosemontca.org \n 
URL:https://rosemontca.org/event/personal-finance-workshop-retirement-planning/
LOCATION:Atonement Church\, 9242 Kiefer Blvd.
END:VEVENT
BEGIN:VEVENT
DTSTART;TZID=America/Los_Angeles:20170715T084500
DTEND;TZID=America/Los_Angeles:20170715T110000
DTSTAMP:20260425T050421
CREATED:20170221T215529Z
LAST-MODIFIED:20170705T230158Z
UID:2858-1500108300-1500116400@rosemontca.org
SUMMARY:Kiefer Cleanup
DESCRIPTION: Join your neighbors and help keep our main street looking decent \n Meet at Atonement Church\, 9242 Kiefer Blvd.
URL:https://rosemontca.org/event/kiefer-cleanup-9/
LOCATION:CA
END:VEVENT
BEGIN:VEVENT
DTSTART;TZID=America/Los_Angeles:20170707T170000
DTEND;TZID=America/Los_Angeles:20170707T200000
DTSTAMP:20260425T050421
CREATED:20170221T224517Z
LAST-MODIFIED:20170221T224517Z
UID:2877-1499446800-1499457600@rosemontca.org
SUMMARY:Rosemont Food Truck Fest
DESCRIPTION:Come out with your family and friends and enjoy great food in the park
URL:https://rosemontca.org/event/rosemont-food-truck-fest-5/
LOCATION:Rosemont Community Park\, 9326 Americana Way\, Sacramento\, CA\, 95826\, United States
END:VEVENT
BEGIN:VEVENT
DTSTART;TZID=America/Los_Angeles:20170706T190000
DTEND;TZID=America/Los_Angeles:20170706T210000
DTSTAMP:20260425T050421
CREATED:20170221T220812Z
LAST-MODIFIED:20170221T220812Z
UID:2868-1499367600-1499374800@rosemontca.org
SUMMARY:RCA Board Meeting
DESCRIPTION:
URL:https://rosemontca.org/event/rca-board-meeting-25/
LOCATION:Atonement Church\, 9242 Kiefer Blvd.
END:VEVENT
BEGIN:VEVENT
DTSTART;TZID=America/Los_Angeles:20170627T190000
DTEND;TZID=America/Los_Angeles:20170627T203000
DTSTAMP:20260425T050421
CREATED:20170221T215400Z
LAST-MODIFIED:20170221T215400Z
UID:2857-1498590000-1498595400@rosemontca.org
SUMMARY:Personal Finance Workshop on Social Security – Getting What You are Due
DESCRIPTION:Free\, but sign up at info@rosemontca.org \n 
URL:https://rosemontca.org/event/personal-finance-workshop-social-security-getting-due/
LOCATION:Atonement Church\, 9242 Kiefer Blvd.
END:VEVENT
BEGIN:VEVENT
DTSTART;TZID=America/Los_Angeles:20170602T170000
DTEND;TZID=America/Los_Angeles:20170602T200000
DTSTAMP:20260425T050421
CREATED:20170221T224015Z
LAST-MODIFIED:20170221T224015Z
UID:2875-1496422800-1496433600@rosemontca.org
SUMMARY:Rosemont Food Truck Fest
DESCRIPTION:Come out with your family and friends and enjoy a fun evening in the park
URL:https://rosemontca.org/event/rosemont-food-truck-fest-3/
LOCATION:Rosemont Community Park\, 9326 Americana Way\, Sacramento\, CA\, 95826\, United States
END:VEVENT
BEGIN:VEVENT
DTSTART;TZID=America/Los_Angeles:20170601T190000
DTEND;TZID=America/Los_Angeles:20170601T210000
DTSTAMP:20260425T050421
CREATED:20170221T220911Z
LAST-MODIFIED:20170221T220911Z
UID:2869-1496343600-1496350800@rosemontca.org
SUMMARY:RCA Board Meeting
DESCRIPTION:
URL:https://rosemontca.org/event/rca-board-meeting-26/
LOCATION:Atonement Church\, 9242 Kiefer Blvd.
END:VEVENT
BEGIN:VEVENT
DTSTART;TZID=America/Los_Angeles:20170523T190000
DTEND;TZID=America/Los_Angeles:20170523T203000
DTSTAMP:20260425T050421
CREATED:20170221T215220Z
LAST-MODIFIED:20170221T215220Z
UID:2856-1495566000-1495571400@rosemontca.org
SUMMARY:Personal Finance Workshop on Wills\, Trusts\, and Powers of Attorney
DESCRIPTION:– Free\, but sign up by emailing your contact info to info@rosemontca.org \n 
URL:https://rosemontca.org/event/personal-finance-workshop-wills-trusts-powers-attorney/
LOCATION:Atonement Church\, 9242 Kiefer Blvd.
END:VEVENT
BEGIN:VEVENT
DTSTART;TZID=America/Los_Angeles:20170509T183000
DTEND;TZID=America/Los_Angeles:20170509T210000
DTSTAMP:20260425T050421
CREATED:20170221T215018Z
LAST-MODIFIED:20170502T164508Z
UID:2855-1494354600-1494363600@rosemontca.org
SUMMARY:RCA Annual Meeting
DESCRIPTION:Join in the discussion that guides the future of our community; let’s hear your ideas! Elect your leadership\, and talk to your officials. Information tables open at 6:30\, meeting begins at 7:00pm \n 
URL:https://rosemontca.org/event/rca-annual-meeting-2/
LOCATION:Einstein Middle School\, 9325 Mirandy Ave\, Sacramento\, CA\, 95826\, United States
END:VEVENT
BEGIN:VEVENT
DTSTART;TZID=America/Los_Angeles:20170505T170000
DTEND;TZID=America/Los_Angeles:20170505T200000
DTSTAMP:20260425T050421
CREATED:20170221T223723Z
LAST-MODIFIED:20170221T223723Z
UID:2874-1494003600-1494014400@rosemontca.org
SUMMARY:Food Truck Fest
DESCRIPTION:Come out with your family and friends and enjoy a fun evening in the park with great food.
URL:https://rosemontca.org/event/food-truck-fest-7/
LOCATION:Rosemont Community Park\, 9326 Americana Way\, Sacramento\, CA\, 95826\, United States
END:VEVENT
BEGIN:VEVENT
DTSTART;TZID=America/Los_Angeles:20170504T190000
DTEND;TZID=America/Los_Angeles:20170504T210000
DTSTAMP:20260425T050421
CREATED:20170221T221005Z
LAST-MODIFIED:20170221T221005Z
UID:2870-1493924400-1493931600@rosemontca.org
SUMMARY:RCA Board Meeting
DESCRIPTION:
URL:https://rosemontca.org/event/rca-board-meeting-27/
LOCATION:Atonement Church\, 9242 Kiefer Blvd.
END:VEVENT
BEGIN:VEVENT
DTSTART;TZID=America/Los_Angeles:20170425T190000
DTEND;TZID=America/Los_Angeles:20170425T203000
DTSTAMP:20260425T050421
CREATED:20170221T214738Z
LAST-MODIFIED:20170221T214738Z
UID:2854-1493146800-1493152200@rosemontca.org
SUMMARY:Personal Finance Workshop on Buying a New Home & Mortgage Planning
DESCRIPTION: – Free\, but sign up by email your name and contact info to info@rosemontca.org \n 
URL:https://rosemontca.org/event/personal-finance-workshop-buying-new-home-mortgage-planning/
LOCATION:Atonement Church\, 9242 Kiefer Blvd.
END:VEVENT
BEGIN:VEVENT
DTSTART;TZID=America/Los_Angeles:20170421T170000
DTEND;TZID=America/Los_Angeles:20170421T200000
DTSTAMP:20260425T050421
CREATED:20170221T213134Z
LAST-MODIFIED:20170221T213134Z
UID:2850-1492794000-1492804800@rosemontca.org
SUMMARY:Essence of Rosemont
DESCRIPTION:A community event featuring student demonstrations and performances\, live music\, food\, and sports and club booths. See what great things our high schoolers are doing!
URL:https://rosemontca.org/event/essence-rosemont-2/
LOCATION:Rosemont High School\, 9594 Kiefer Blvd\, Sacramento\, CA\, 95827\, United States
END:VEVENT
BEGIN:VEVENT
DTSTART;TZID=America/Los_Angeles:20170408T084500
DTEND;TZID=America/Los_Angeles:20170408T110000
DTSTAMP:20260425T050421
CREATED:20170221T212152Z
LAST-MODIFIED:20170221T212152Z
UID:2849-1491641100-1491649200@rosemontca.org
SUMMARY:Kiefer  Cleanup
DESCRIPTION:Join your neighbors in doing a blitz cleanup along Kiefer Blvd. Meet at Atonement Church at 8:45am. We’ll be done by 11:00. Just bring your gloves.
URL:https://rosemontca.org/event/kiefer-cleanup-8/
LOCATION:CA
END:VEVENT
BEGIN:VEVENT
DTSTART;TZID=America/Los_Angeles:20170408T080000
DTEND;TZID=America/Los_Angeles:20170408T170000
DTSTAMP:20260425T050421
CREATED:20170408T234146Z
LAST-MODIFIED:20170408T234146Z
UID:3056-1491638400-1491670800@rosemontca.org
SUMMARY:RCA Board Highlights
DESCRIPTION:At its April meeting the RCA Board was briefed by Patrick Larkin\, the new District Administrator for the Cordova Recreation and Parks District\, on plans for its programs and its working relations with the Rosemont community. Among other issues\, he noted that they are doing more at the RHS pool since the poll at Hagen Park is being rebuilt. \nPlans are on track for a Rosemont entrance sign to be installed at Bradshaw and Kiefer\, hopefully the first of several welcoming people to our community. Several cleanup projects are underway to add landscaping and do painting at entry points. The RHS Essence of Rosemont\, a family friendly display of student activities\, will be April 21 from 5-8 pm at the campus quad. The issue of safety at the Homecoming Parade will be raised with the school. SMUD will brief RCA on its proposed rate increases at the May 4 board meeting. The future of Rosemont will be the focus of the annual RCA meeting May 9; Supervisor Nottoli will also be there along with information on many of the agencies serving Rosemont. And the board voted to submit an application for a grant from the County to do several revitalization projects; we should know by summer if we receive the funding. The next RCA Board meeting\, with the SMUD rate briefing\, will be May 4\, at 7pm At Atonement Church. \n 
URL:https://rosemontca.org/event/rca-board-highlights/
LOCATION:CA
END:VEVENT
BEGIN:VEVENT
DTSTART;TZID=America/Los_Angeles:20170408T080000
DTEND;TZID=America/Los_Angeles:20170408T170000
DTSTAMP:20260425T050421
CREATED:20170408T233949Z
LAST-MODIFIED:20170408T233949Z
UID:3055-1491638400-1491670800@rosemontca.org
SUMMARY:Catch Rosemont’s Essence April 21
DESCRIPTION:Treat yourself to a fun and encouraging experience Friday evening\, April 21 from 5-8pm at Rosemont High and enjoy the Essence of Rosemont. This family oriented event highlights the many subjects\, activities and skill our high schoolers are learning\, and it will boost your appreciation for our next generation. There will be displays of robotics\, music\, performance arts\, graphic arts\, culinary arts\, and much more\, as well as the traditional academic topics. There will even be lots of tasty food. And at the end of the evening there will be a free movie for the whole family. It all takes place centered around the school quad. So come on out and enjoy a fun and different evening.
URL:https://rosemontca.org/event/catch-rosemonts-essence-april-21/
LOCATION:CA
END:VEVENT
BEGIN:VEVENT
DTSTART;TZID=America/Los_Angeles:20170408T080000
DTEND;TZID=America/Los_Angeles:20170408T170000
DTSTAMP:20260425T050421
CREATED:20170408T233811Z
LAST-MODIFIED:20170408T233811Z
UID:3053-1491638400-1491670800@rosemontca.org
SUMMARY:RT Wants Your Thoughts
DESCRIPTION:The Sacramento Regional Transit District (Sac RT) is undergoing an historic transformation to optimize service\, seek continuous improvements\, and bring greater value to our region. As art of this effort it is seeking input from the public\, especially those who use the system or those who would use it if only… To participate in this survey\, just click HERE to let RT know what’s you’d like. \n 
URL:https://rosemontca.org/event/rt-wants-thoughts/
LOCATION:CA
END:VEVENT
BEGIN:VEVENT
DTSTART;TZID=America/Los_Angeles:20170407T170000
DTEND;TZID=America/Los_Angeles:20170407T200000
DTSTAMP:20260425T050421
CREATED:20170221T211855Z
LAST-MODIFIED:20170221T211855Z
UID:2848-1491584400-1491595200@rosemontca.org
SUMMARY:Rosemont Food Truck Fest
DESCRIPTION:
URL:https://rosemontca.org/event/rosemont-food-truck-fest-2/
LOCATION:Rosemont Community Park\, 9326 Americana Way\, Sacramento\, CA\, 95826\, United States
END:VEVENT
BEGIN:VEVENT
DTSTART;TZID=America/Los_Angeles:20170406T190000
DTEND;TZID=America/Los_Angeles:20170406T210000
DTSTAMP:20260425T050421
CREATED:20170221T211726Z
LAST-MODIFIED:20170221T211726Z
UID:2847-1491505200-1491512400@rosemontca.org
SUMMARY:RCA Board Meeting
DESCRIPTION:
URL:https://rosemontca.org/event/rca-board-meeting-19/
LOCATION:Atonement Church\, 9242 Kiefer Blvd.
END:VEVENT
END:VCALENDAR