BEGIN:VCALENDAR
VERSION:2.0
PRODID:-//Rosemont Community Association - ECPv6.15.10//NONSGML v1.0//EN
CALSCALE:GREGORIAN
METHOD:PUBLISH
X-WR-CALNAME:Rosemont Community Association
X-ORIGINAL-URL:https://rosemontca.org
X-WR-CALDESC:Events for Rosemont Community Association
REFRESH-INTERVAL;VALUE=DURATION:PT1H
X-Robots-Tag:noindex
X-PUBLISHED-TTL:PT1H
BEGIN:VTIMEZONE
TZID:America/Los_Angeles
BEGIN:DAYLIGHT
TZOFFSETFROM:-0800
TZOFFSETTO:-0700
TZNAME:PDT
DTSTART:20150308T100000
END:DAYLIGHT
BEGIN:STANDARD
TZOFFSETFROM:-0700
TZOFFSETTO:-0800
TZNAME:PST
DTSTART:20151101T090000
END:STANDARD
BEGIN:DAYLIGHT
TZOFFSETFROM:-0800
TZOFFSETTO:-0700
TZNAME:PDT
DTSTART:20160313T100000
END:DAYLIGHT
BEGIN:STANDARD
TZOFFSETFROM:-0700
TZOFFSETTO:-0800
TZNAME:PST
DTSTART:20161106T090000
END:STANDARD
BEGIN:DAYLIGHT
TZOFFSETFROM:-0800
TZOFFSETTO:-0700
TZNAME:PDT
DTSTART:20170312T100000
END:DAYLIGHT
BEGIN:STANDARD
TZOFFSETFROM:-0700
TZOFFSETTO:-0800
TZNAME:PST
DTSTART:20171105T090000
END:STANDARD
BEGIN:DAYLIGHT
TZOFFSETFROM:-0800
TZOFFSETTO:-0700
TZNAME:PDT
DTSTART:20180311T100000
END:DAYLIGHT
BEGIN:STANDARD
TZOFFSETFROM:-0700
TZOFFSETTO:-0800
TZNAME:PST
DTSTART:20181104T090000
END:STANDARD
END:VTIMEZONE
BEGIN:VEVENT
DTSTART;TZID=America/Los_Angeles:20170302T190000
DTEND;TZID=America/Los_Angeles:20170302T210000
DTSTAMP:20260425T070816
CREATED:20170221T211026Z
LAST-MODIFIED:20170221T211026Z
UID:2843-1488481200-1488488400@rosemontca.org
SUMMARY:RCA Board Meeting
DESCRIPTION:
URL:https://rosemontca.org/event/rca-board-meeting-18/
LOCATION:Atonement Church\, 9242 Kiefer Blvd.
END:VEVENT
BEGIN:VEVENT
DTSTART;TZID=America/Los_Angeles:20170218T073000
DTEND;TZID=America/Los_Angeles:20170218T103000
DTSTAMP:20260425T070816
CREATED:20170110T062055Z
LAST-MODIFIED:20170110T062055Z
UID:2728-1487403000-1487413800@rosemontca.org
SUMMARY:Golden Empire School Pancake Breakfast and Auction
DESCRIPTION:Support Golden Empire Elementary School activities when you enjoy a pancake breakfast and silent auction.
URL:https://rosemontca.org/event/golden-empire-school-pancake-breakfast-auction/
LOCATION:Golden Empire Elementary School\, 9045 Canberra
END:VEVENT
BEGIN:VEVENT
DTSTART;TZID=America/Los_Angeles:20170202T190000
DTEND;TZID=America/Los_Angeles:20170202T203000
DTSTAMP:20260425T070816
CREATED:20170109T221922Z
LAST-MODIFIED:20170109T221922Z
UID:2722-1486062000-1486067400@rosemontca.org
SUMMARY:February RCA Meeting
DESCRIPTION:Monthly RCA Board meeting
URL:https://rosemontca.org/event/february-rca-meeting/
LOCATION:Atonement Church\, 9242 Kiefer Blvd\, Sacramento\, CA\, 95826\, United States
END:VEVENT
BEGIN:VEVENT
DTSTART;TZID=America/Los_Angeles:20170125T173000
DTEND;TZID=America/Los_Angeles:20170125T210000
DTSTAMP:20260425T070816
CREATED:20170110T061624Z
LAST-MODIFIED:20170110T061624Z
UID:2726-1485365400-1485378000@rosemontca.org
SUMMARY:Einstein MS Night of Achievement
DESCRIPTION:Come see the amazing things our middle school students are learning and doing!
URL:https://rosemontca.org/event/einstein-ms-night-achievement/
LOCATION:Einstein Middle School\, 9325 Mirandy
END:VEVENT
BEGIN:VEVENT
DTSTART;TZID=America/Los_Angeles:20170114T084500
DTEND;TZID=America/Los_Angeles:20170114T110000
DTSTAMP:20260425T070816
CREATED:20170110T061130Z
LAST-MODIFIED:20170110T061130Z
UID:2724-1484383500-1484391600@rosemontca.org
SUMMARY:Kiefer Cleanup
DESCRIPTION:Join Neighbors in helping keep our main street clean.
URL:https://rosemontca.org/event/kiefer-cleanup-7/
LOCATION:Atonement Church\, 9242 Kiefer Blvd.
END:VEVENT
BEGIN:VEVENT
DTSTART;TZID=America/Los_Angeles:20161025T190000
DTEND;TZID=America/Los_Angeles:20161025T203000
DTSTAMP:20260425T070816
CREATED:20160623T022448Z
LAST-MODIFIED:20160623T022448Z
UID:2287-1477422000-1477427400@rosemontca.org
SUMMARY:Financial Literacy Project
DESCRIPTION:Come to a free Financial Literacy Project workshop at the Atonement Church. For more details\, visit our Financial Literacy page. Please register if you are interested in atten
URL:https://rosemontca.org/event/financial-literacy-project-6/
LOCATION:Atonement Church\, 9242 Kiefer Blvd\, Sacramento\, CA\, 95826\, United States
END:VEVENT
BEGIN:VEVENT
DTSTART;TZID=America/Los_Angeles:20161008T084500
DTEND;TZID=America/Los_Angeles:20161008T110000
DTSTAMP:20260425T070816
CREATED:20151013T154836Z
LAST-MODIFIED:20151013T154836Z
UID:1536-1475916300-1475924400@rosemontca.org
SUMMARY:Kiefer Cleanup
DESCRIPTION:Join your neighbors and help clean up trash along Kiefer Blvd.\, our main street\, and keep Rosemont looking nice. Just bring you gloves\, a hat\, and a water bottle – we’ll supply the rest. The cleanup crew meets at Atonement Church parking lot. See below for more details.
URL:https://rosemontca.org/event/kiefer-cleanup-6/
LOCATION:Atonement Church\, 9242 Kiefer Blvd\, Sacramento\, CA\, 95826\, United States
ATTACH;FMTTYPE=image/jpeg:https://rosemontca.org/wp-content/uploads/2012/10/054.jpg
END:VEVENT
BEGIN:VEVENT
DTSTART;TZID=America/Los_Angeles:20161006T190000
DTEND;TZID=America/Los_Angeles:20161006T210000
DTSTAMP:20260425T070816
CREATED:20160623T022554Z
LAST-MODIFIED:20160623T022554Z
UID:2288-1475780400-1475787600@rosemontca.org
SUMMARY:RCA Board Meeting
DESCRIPTION:Monthly RCA Board meeting to discuss upcoming community events and the current status of RCA programs. All are welcome. Check the RCA website the week prior for additional details.
URL:https://rosemontca.org/event/rca-board-meeting-17/
LOCATION:Atonement Church\, 9242 Kiefer Blvd\, Sacramento\, CA\, 95826\, United States
END:VEVENT
BEGIN:VEVENT
DTSTART;TZID=America/Los_Angeles:20160927T190000
DTEND;TZID=America/Los_Angeles:20160927T203000
DTSTAMP:20260425T070816
CREATED:20160623T022347Z
LAST-MODIFIED:20160623T022347Z
UID:2286-1475002800-1475008200@rosemontca.org
SUMMARY:Financial Literacy Project
DESCRIPTION:Come to a free Financial Literacy Project workshop at the Atonement Church. For more details\, visit our Financial Literacy page. Please register if you are interested in atten
URL:https://rosemontca.org/event/financial-literacy-project-5/
LOCATION:Atonement Church\, 9242 Kiefer Blvd\, Sacramento\, CA\, 95826\, United States
END:VEVENT
BEGIN:VEVENT
DTSTART;TZID=America/Los_Angeles:20160901T190000
DTEND;TZID=America/Los_Angeles:20160901T210000
DTSTAMP:20260425T070816
CREATED:20160623T021350Z
LAST-MODIFIED:20160623T021351Z
UID:2282-1472756400-1472763600@rosemontca.org
SUMMARY:RCA Board Meeting
DESCRIPTION:Monthly RCA Board meeting to discuss upcoming community events and the current status of RCA programs. All are welcome. Check the RCA website the week prior for additional details.
URL:https://rosemontca.org/event/rca-board-meeting-16/
LOCATION:Atonement Church\, 9242 Kiefer Blvd\, Sacramento\, CA\, 95826\, United States
END:VEVENT
BEGIN:VEVENT
DTSTART;TZID=America/Los_Angeles:20160823T190000
DTEND;TZID=America/Los_Angeles:20160823T203000
DTSTAMP:20260425T070816
CREATED:20160623T022138Z
LAST-MODIFIED:20160623T022138Z
UID:2285-1471978800-1471984200@rosemontca.org
SUMMARY:Financial Literacy Project
DESCRIPTION:Come to a free Financial Literacy Project workshop at the Atonement Church. For more details\, visit our Financial Literacy page. Please register if you are interested in atten
URL:https://rosemontca.org/event/financial-literacy-project-4/
LOCATION:Atonement Church\, 9242 Kiefer Blvd\, Sacramento\, CA\, 95826\, United States
END:VEVENT
BEGIN:VEVENT
DTSTART;TZID=America/Los_Angeles:20160820T093000
DTEND;TZID=America/Los_Angeles:20160820T140000
DTSTAMP:20260425T070816
CREATED:20160623T021237Z
LAST-MODIFIED:20160623T021237Z
UID:2281-1471685400-1471701600@rosemontca.org
SUMMARY:RCA Celebration of Community
DESCRIPTION:All are invited to join your neighbors at the annual Celebration of Community.
URL:https://rosemontca.org/event/celebration-of-community/
LOCATION:Rosemont Community Park\, 9326 Americana Way\, Sacramento\, CA\, 95826\, United States
END:VEVENT
BEGIN:VEVENT
DTSTART;TZID=America/Los_Angeles:20160805T170000
DTEND;TZID=America/Los_Angeles:20160805T200000
DTSTAMP:20260425T070816
CREATED:20160802T152436Z
LAST-MODIFIED:20170221T221828Z
UID:2385-1470416400-1470427200@rosemontca.org
SUMMARY:Food Truck Fest
DESCRIPTION:Come out and enjoy an assortment of food options provided by the Sacto Mofo Food Trucks.
URL:https://rosemontca.org/event/food-trucks-2/
LOCATION:Rosemont Community Park\, 9326 Americana Way\, Sacramento\, CA\, 95826\, United States
END:VEVENT
BEGIN:VEVENT
DTSTART;TZID=America/Los_Angeles:20160804T190000
DTEND;TZID=America/Los_Angeles:20160804T210000
DTSTAMP:20260425T070816
CREATED:20160623T021034Z
LAST-MODIFIED:20160623T021034Z
UID:2280-1470337200-1470344400@rosemontca.org
SUMMARY:RCA Board Meeting
DESCRIPTION:Monthly RCA Board meeting to discuss upcoming community events and the current status of RCA programs. All are welcome. Check the RCA website the week prior for additional details.
URL:https://rosemontca.org/event/rca-board-meeting-15/
LOCATION:Atonement Church\, 9242 Kiefer Blvd\, Sacramento\, CA\, 95826\, United States
END:VEVENT
BEGIN:VEVENT
DTSTART;TZID=America/Los_Angeles:20160719T190000
DTEND;TZID=America/Los_Angeles:20160719T203000
DTSTAMP:20260425T070816
CREATED:20160623T021956Z
LAST-MODIFIED:20160713T153107Z
UID:2284-1468954800-1468960200@rosemontca.org
SUMMARY:Financial Literacy Project
DESCRIPTION:Come to a free Financial Literacy Project workshop at the Atonement Church. For more details\, visit our Financial Literacy page. Please register if you are interested in attending
URL:https://rosemontca.org/event/financial-literacy-project-3/
LOCATION:Atonement Church\, 9242 Kiefer Blvd\, Sacramento\, CA\, 95826\, United States
END:VEVENT
BEGIN:VEVENT
DTSTART;TZID=America/Los_Angeles:20160709T084500
DTEND;TZID=America/Los_Angeles:20160709T110000
DTSTAMP:20260425T070816
CREATED:20151013T154645Z
LAST-MODIFIED:20151013T154645Z
UID:1535-1468053900-1468062000@rosemontca.org
SUMMARY:Kiefer Cleanup
DESCRIPTION:Join your neighbors and help clean up trash along Kiefer Blvd.\, our main street\, and keep Rosemont looking nice. Just bring you gloves\, a hat\, and a water bottle – we’ll supply the rest. The cleanup crew meets at Atonement Church parking lot. See below for more details.
URL:https://rosemontca.org/event/kiefer-cleanup-5/
LOCATION:Atonement Church\, 9242 Kiefer Blvd\, Sacramento\, CA\, 95826\, United States
ATTACH;FMTTYPE=image/jpeg:https://rosemontca.org/wp-content/uploads/2015/03/IMG_3134.jpg
END:VEVENT
BEGIN:VEVENT
DTSTART;TZID=America/Los_Angeles:20160707T190000
DTEND;TZID=America/Los_Angeles:20160707T210000
DTSTAMP:20260425T070816
CREATED:20160623T020855Z
LAST-MODIFIED:20160702T002246Z
UID:2279-1467918000-1467925200@rosemontca.org
SUMMARY:RCA Board Meeting
DESCRIPTION:Monthly RCA Board meeting to discuss upcoming community events and the current status of RCA programs. All are welcome. Check the RCA website the week prior for additional details.
URL:https://rosemontca.org/event/rca-board-meeting-14/
LOCATION:Einstein Middle School\, 9325 Mirandy Ave\, Sacramento\, CA\, 95826\, United States
END:VEVENT
BEGIN:VEVENT
DTSTART;TZID=America/Los_Angeles:20160701T170000
DTEND;TZID=America/Los_Angeles:20160701T200000
DTSTAMP:20260425T070816
CREATED:20160702T004823Z
LAST-MODIFIED:20160702T004823Z
UID:2313-1467392400-1467403200@rosemontca.org
SUMMARY:Food Trucks
DESCRIPTION:Come out and enjoy an assortment of food options provided by the Sacto Mofo Food Trucks.
URL:https://rosemontca.org/event/food-trucks/
LOCATION:Rosemont Community Park\, 9326 Americana Way\, Sacramento\, CA\, 95826\, United States
END:VEVENT
BEGIN:VEVENT
DTSTART;TZID=America/Los_Angeles:20160628T070000
DTEND;TZID=America/Los_Angeles:20160628T203000
DTSTAMP:20260425T070816
CREATED:20160623T021837Z
LAST-MODIFIED:20160623T022048Z
UID:2283-1467097200-1467145800@rosemontca.org
SUMMARY:Financial Literacy Project
DESCRIPTION:Come to a free Financial Literacy Project workshop at the Atonement Church. For more details\, visit our Financial Literacy page. Please register if you are interested in attending.
URL:https://rosemontca.org/event/financial-literacy-project-2/
LOCATION:Atonement Church\, 9242 Kiefer Blvd\, Sacramento\, CA\, 95826\, United States
END:VEVENT
BEGIN:VEVENT
DTSTART;TZID=America/Los_Angeles:20160602T190000
DTEND;TZID=America/Los_Angeles:20160602T200000
DTSTAMP:20260425T070816
CREATED:20160321T174547Z
LAST-MODIFIED:20160321T174547Z
UID:1977-1464894000-1464897600@rosemontca.org
SUMMARY:RCA Board Meeting
DESCRIPTION:Monthly RCA Board meeting to discuss upcoming community events and the current status of RCA programs. All are welcome. Check the RCA website the week prior for additional details. \nPast Board Meeting agendas and minutes can be found on The Board webpage of the RCA website.
URL:https://rosemontca.org/event/rca-board-meeting-13/
LOCATION:Atonement Church\, 9242 Kiefer Blvd\, Sacramento\, CA\, 95826\, United States
END:VEVENT
BEGIN:VEVENT
DTSTART;TZID=America/Los_Angeles:20160518T190000
DTEND;TZID=America/Los_Angeles:20160518T210000
DTSTAMP:20260425T070816
CREATED:20160403T150223Z
LAST-MODIFIED:20160403T150223Z
UID:2019-1463598000-1463605200@rosemontca.org
SUMMARY:RCA Annual Meeting
DESCRIPTION:RCA Annual Meeting will feature an open forum to discuss the future of Rosemont!
URL:https://rosemontca.org/event/rca-annual-meeting/
LOCATION:Rosemont High School cafeteria\, Rosemont High School\, 9594 Kiefer Boulevard\,\, Sacramento\, CA\, 95827\, United States
END:VEVENT
BEGIN:VEVENT
DTSTART;TZID=America/Los_Angeles:20160505T190000
DTEND;TZID=America/Los_Angeles:20160505T210000
DTSTAMP:20260425T070816
CREATED:20160321T174441Z
LAST-MODIFIED:20160321T174441Z
UID:1976-1462474800-1462482000@rosemontca.org
SUMMARY:RCA Board Meeting
DESCRIPTION:Monthly RCA Board meeting to discuss upcoming community events and the current status of RCA programs. All are welcome. Check the RCA website the week prior for additional details. \nPast Board Meeting agendas and minutes can be found on The Board webpage of the RCA website.
URL:https://rosemontca.org/event/rca-board-meeting-12/
LOCATION:Atonement Church\, 9242 Kiefer Blvd\, Sacramento\, CA\, 95826\, United States
END:VEVENT
BEGIN:VEVENT
DTSTART;TZID=America/Los_Angeles:20160430T083000
DTEND;TZID=America/Los_Angeles:20160430T120000
DTSTAMP:20260425T070816
CREATED:20160321T173903Z
LAST-MODIFIED:20160321T173903Z
UID:1973-1462005000-1462017600@rosemontca.org
SUMMARY:Rosemont 5K Fun Run
DESCRIPTION:The annual Rosemont 5K Fun Run will be held on Saturday April 30th with check-in at 8:30 AM and the run at 9 AM.  The run starts and ends at Rosemont High School.
URL:https://rosemontca.org/event/rosemont-5k-fun-run/
LOCATION:Rosemont High School\, 9594 Kiefer Blvd\, Sacramento\, CA\, 95827\, United States
ORGANIZER;CN="RHS PTSA":MAILTO:rosemontptsa@gmail.com
END:VEVENT
BEGIN:VEVENT
DTSTART;TZID=America/Los_Angeles:20160427T190000
DTEND;TZID=America/Los_Angeles:20160427T210000
DTSTAMP:20260425T070816
CREATED:20160321T174959Z
LAST-MODIFIED:20160321T174959Z
UID:1979-1461783600-1461790800@rosemontca.org
SUMMARY:Buying a Home & Mortgage Financial Planning
DESCRIPTION:As part of RCA’s Financial Literacy Project (FLP)\, there will be a buying a home and mortgage financial planning workshop on Wednesday\, April 27th at Atonement Church. This program is supported by a generous grant from State Farm and will be led by professional financial planners from the Financial Planning Association of Northern California.
URL:https://rosemontca.org/event/buying-home-mortgage-financial-planning/
LOCATION:Atonement Church\, 9242 Kiefer Blvd\, Sacramento\, CA\, 95826\, United States
END:VEVENT
BEGIN:VEVENT
DTSTART;TZID=America/Los_Angeles:20160415T170000
DTEND;TZID=America/Los_Angeles:20160415T200000
DTSTAMP:20260425T070816
CREATED:20160321T175926Z
LAST-MODIFIED:20160321T175926Z
UID:1981-1460739600-1460750400@rosemontca.org
SUMMARY:Essence of Rosemont
DESCRIPTION:Learn what amazing things our Rosemont High students are learning and doing when you visit the Essence of Rosemont on Friday\, April 15\, on campus. This fun event features many displays and performances by the students\, and also offers tasty treats\, some of which the students have made themselves. See artwork; hear music; watch dancing; see demonstrations; enjoy performances. You will come away encouraged by what you see our students learning and doing. And end this fun\, free event with a movie selected by the attendees. It all begins at 5:00pm\, so clear your calendar and head on over to school for a good time for the whole family.
URL:https://rosemontca.org/event/essence-of-rosemont/
LOCATION:Rosemont High School\, 9594 Kiefer Blvd\, Sacramento\, CA\, 95827\, United States
END:VEVENT
BEGIN:VEVENT
DTSTART;TZID=America/Los_Angeles:20160409T084500
DTEND;TZID=America/Los_Angeles:20160409T110000
DTSTAMP:20260425T070816
CREATED:20151013T154520Z
LAST-MODIFIED:20151013T154520Z
UID:1534-1460191500-1460199600@rosemontca.org
SUMMARY:Kiefer Cleanup
DESCRIPTION:Join your neighbors and help clean up trash along Kiefer Blvd.\, our main street\, and keep Rosemont looking nice. Just bring you gloves\, a hat\, and a water bottle – we’ll supply the rest. The cleanup crew meets at Atonement Church parking lot. See below for more details.
URL:https://rosemontca.org/event/kiefer-cleanup-4/
LOCATION:Atonement Church\, 9242 Kiefer Blvd\, Sacramento\, CA\, 95826\, United States
ATTACH;FMTTYPE=image/jpeg:https://rosemontca.org/wp-content/uploads/2015/04/013-1.jpg
END:VEVENT
BEGIN:VEVENT
DTSTART;TZID=America/Los_Angeles:20160407T190000
DTEND;TZID=America/Los_Angeles:20160407T210000
DTSTAMP:20260425T070816
CREATED:20160321T174246Z
LAST-MODIFIED:20160321T174246Z
UID:1975-1460055600-1460062800@rosemontca.org
SUMMARY:RCA Board Meeting
DESCRIPTION:Monthly RCA Board meeting to discuss upcoming community events and the current status of RCA programs. All are welcome. Check the RCA website the week prior for additional details. \nPast Board Meeting agendas and minutes can be found on The Board webpage of the RCA website.
URL:https://rosemontca.org/event/monthly-rca-board-meeting-discuss-upcoming-community-events-current-status-rca-programs-welcome-check-rca-website-week-prior-additional-details-past-board-meeting/
LOCATION:Atonement Church\, 9242 Kiefer Blvd\, Sacramento\, CA\, 95826\, United States
END:VEVENT
BEGIN:VEVENT
DTSTART;TZID=America/Los_Angeles:20160330T190000
DTEND;TZID=America/Los_Angeles:20160330T210000
DTSTAMP:20260425T070816
CREATED:20160321T174100Z
LAST-MODIFIED:20160321T174100Z
UID:1974-1459364400-1459371600@rosemontca.org
SUMMARY:Education and College Financial Planning Workshop
DESCRIPTION:As part of RCA’s Financial Literacy Project (FLP)\, there will be an education and college planning workshop on Wednesday\, March 30th at Atonement Church. This program is supported by a generous grant from State Farm and will be led by professional financial planners from the Financial Planning Association of Northern California.
URL:https://rosemontca.org/event/education-college-financial-planning-workshop/
LOCATION:Atonement Church\, 9242 Kiefer Blvd\, Sacramento\, CA\, 95826\, United States
END:VEVENT
BEGIN:VEVENT
DTSTART;TZID=America/Los_Angeles:20160303T190000
DTEND;TZID=America/Los_Angeles:20160303T210000
DTSTAMP:20260425T070816
CREATED:20160107T040032Z
LAST-MODIFIED:20160107T040220Z
UID:1748-1457031600-1457038800@rosemontca.org
SUMMARY:RCA Board Meeting
DESCRIPTION:Monthly RCA Board meeting to discuss upcoming community events and the current status of RCA programs. All are welcome. Check the RCA website the week prior for additional details. \nPast Board Meeting agendas and minutes can be found on The Board webpage of the RCA website.
URL:https://rosemontca.org/event/rca-board-meeting-11/
LOCATION:Atonement Church\, 9242 Kiefer Blvd\, Sacramento\, CA\, 95826\, United States
CATEGORIES:Board Meeting
END:VEVENT
BEGIN:VEVENT
DTSTART;TZID=America/Los_Angeles:20160224T190000
DTEND;TZID=America/Los_Angeles:20160224T203000
DTSTAMP:20260425T070816
CREATED:20160213T195103Z
LAST-MODIFIED:20160213T195103Z
UID:1864-1456340400-1456345800@rosemontca.org
SUMMARY:Financial Literacy Project
DESCRIPTION:Financial Literacy Project (FLP) will be discussing tax planning. Time and location provided below.
URL:https://rosemontca.org/event/financial-literacy-project/
LOCATION:Atonement Church\, 9242 Kiefer Blvd\, Sacramento\, CA\, 95826\, United States
END:VEVENT
END:VCALENDAR