BEGIN:VCALENDAR
VERSION:2.0
PRODID:-//Rosemont Community Association - ECPv6.15.10//NONSGML v1.0//EN
CALSCALE:GREGORIAN
METHOD:PUBLISH
X-WR-CALNAME:Rosemont Community Association
X-ORIGINAL-URL:https://rosemontca.org
X-WR-CALDESC:Events for Rosemont Community Association
REFRESH-INTERVAL;VALUE=DURATION:PT1H
X-Robots-Tag:noindex
X-PUBLISHED-TTL:PT1H
BEGIN:VTIMEZONE
TZID:America/Los_Angeles
BEGIN:DAYLIGHT
TZOFFSETFROM:-0800
TZOFFSETTO:-0700
TZNAME:PDT
DTSTART:20240310T100000
END:DAYLIGHT
BEGIN:STANDARD
TZOFFSETFROM:-0700
TZOFFSETTO:-0800
TZNAME:PST
DTSTART:20241103T090000
END:STANDARD
BEGIN:DAYLIGHT
TZOFFSETFROM:-0800
TZOFFSETTO:-0700
TZNAME:PDT
DTSTART:20250309T100000
END:DAYLIGHT
BEGIN:STANDARD
TZOFFSETFROM:-0700
TZOFFSETTO:-0800
TZNAME:PST
DTSTART:20251102T090000
END:STANDARD
BEGIN:DAYLIGHT
TZOFFSETFROM:-0800
TZOFFSETTO:-0700
TZNAME:PDT
DTSTART:20260308T100000
END:DAYLIGHT
BEGIN:STANDARD
TZOFFSETFROM:-0700
TZOFFSETTO:-0800
TZNAME:PST
DTSTART:20261101T090000
END:STANDARD
BEGIN:DAYLIGHT
TZOFFSETFROM:-0800
TZOFFSETTO:-0700
TZNAME:PDT
DTSTART:20270314T100000
END:DAYLIGHT
BEGIN:STANDARD
TZOFFSETFROM:-0700
TZOFFSETTO:-0800
TZNAME:PST
DTSTART:20271107T090000
END:STANDARD
END:VTIMEZONE
BEGIN:VEVENT
DTSTART;TZID=America/Los_Angeles:20250816T110000
DTEND;TZID=America/Los_Angeles:20250816T120000
DTSTAMP:20260424T090014
CREATED:20250804T225037Z
LAST-MODIFIED:20250804T225037Z
UID:8483-1755342000-1755345600@rosemontca.org
SUMMARY:Heart-Healthy Meditation Class
DESCRIPTION:A Heart-Healthy Meditation Class is being offered to the Rosemont community.\n\n\nThis class\, led by a board-certified cardiologist\, is based on evidence-informed techniques that have supported many patients in their recovery after a heart attack. It is open to all—no prior experience is needed.\n\n\nPlease note: First-time participants may attend free of charge\, but registration is still required through the website to ensure space is available\, as spots are limited.\n\n\nhttps://tamarkozapp.com/en/center/Sacramento/2025-08-16
URL:https://rosemontca.org/event/heart-healthy-meditation-class/
LOCATION:Sufi Meditation Center\, 3605 Eisenhower Dr\, Sacramento\, CA\, 95826\, United States
ATTACH;FMTTYPE=image/jpeg:https://rosemontca.org/wp-content/uploads/2025/08/August-Tamarkoz-Flyer-with-LINK-8.5-x-11-in.jpg
END:VEVENT
BEGIN:VEVENT
DTSTART;TZID=America/Los_Angeles:20250903T150000
DTEND;TZID=America/Los_Angeles:20250903T190000
DTSTAMP:20260424T090014
CREATED:20250814T051207Z
LAST-MODIFIED:20250814T051207Z
UID:8509-1756911600-1756926000@rosemontca.org
SUMMARY:Rosemont Reads Fundraiser at Beach Hut Deli
DESCRIPTION:Bring the whole family\, a club\, and a ball … (or borrow ours)! \nPlay our Hole-in-One putting game to win tickets for our drawing! Play while you have dinner at the golf course. And\, of course\, we’ll have free books. Beach Hut Deli will donate 10% of food and beverage to the Rosemont Reads Summer Reading Challenge.\n(Students can drop off their Summer Reading Challenge forms at school or at the Rosemont Reads Table at the fundraiser).
URL:https://rosemontca.org/event/rosemont-reads-fundraiser-at-beach-hut-deli/
LOCATION:Cordova Golf Course\, 9425 Jackson Rd.\, Sacramento\, CA\, 95826\, United States
CATEGORIES:Community,Fundraiser
ATTACH;FMTTYPE=image/jpeg:https://rosemontca.org/wp-content/uploads/2025/08/RCA-Calendar.jpg
END:VEVENT
BEGIN:VEVENT
DTSTART;TZID=America/Los_Angeles:20250918T180000
DTEND;TZID=America/Los_Angeles:20250918T200000
DTSTAMP:20260424T090014
CREATED:20250712T002257Z
LAST-MODIFIED:20250712T002257Z
UID:8421-1758218400-1758225600@rosemontca.org
SUMMARY:California State University’s College Night
DESCRIPTION:The CSU and their 23 universities are ready to introduce you to the life-changing possibilities they have to offer. Join them this fall for the free CSU College Nights to meet with campus representatives and learn about how to get ready for college. All events are free and open to any high school or community college student\, returning student or adult learner. Parents\, guardians\, family members and educators are encouraged to attend and witness the start of your future with the CSU. \n​At a CSU College Night you will: \n\nMeet and make connections with representatives from all 23 CSU campuses.\nLearn how to best prepare for CSU freshman and transfer admissions\nReceive tips on completing your Cal State Apply application\nDiscover available resources to help pay for college\nTake a picture with a CSU mascot or two!
URL:https://rosemontca.org/event/california-state-universitys-college-night/
LOCATION:Rosemont High School\, 9594 Kiefer Blvd\, Sacramento\, CA\, 95827\, United States
ATTACH;FMTTYPE=image/png:https://rosemontca.org/wp-content/uploads/2025/07/CSU.png
END:VEVENT
BEGIN:VEVENT
DTSTART;TZID=America/Los_Angeles:20250920T100000
DTEND;TZID=America/Los_Angeles:20250920T140000
DTSTAMP:20260424T090014
CREATED:20250708T222826Z
LAST-MODIFIED:20250708T222826Z
UID:8389-1758362400-1758376800@rosemontca.org
SUMMARY:16th Annual Rosemont Community Celebration
DESCRIPTION:This is Rosemont’s premier event and a chance for neighbors to come together for fun … and everything is FREE\, including food\, music\, kids’ activities\, and information booths. You can gather information on local businesses\, emergency services\, law enforcement\, health\, education\, social services\, animal control\, clean air\, environmental sustainability\, and community organizations.
URL:https://rosemontca.org/event/16th-annual-rosemont-community-celebration/
LOCATION:Rosemont Community Park\, 9326 Americana Way\, Sacramento\, CA\, 95826\, United States
CATEGORIES:Community
ATTACH;FMTTYPE=image/jpeg:https://rosemontca.org/wp-content/uploads/2025/07/CC-2025-Calendar-Image.jpg
END:VEVENT
BEGIN:VEVENT
DTSTART;TZID=America/Los_Angeles:20251011T100000
DTEND;TZID=America/Los_Angeles:20251011T130000
DTSTAMP:20260424T090014
CREATED:20250712T002552Z
LAST-MODIFIED:20250712T005319Z
UID:8424-1760176800-1760187600@rosemontca.org
SUMMARY:SCUSD’s College and Career Fair
DESCRIPTION:SCUSD’s College and Career Fair is taking place on Saturday\, October 11\, 2025\, from 10:00 AM to 1:00 PM.\n\nThis year’s event is shaping up to be the biggest and most impactful yet!\n\n🌟 What’s New This Year?\nThe Job Fair is located inside the Career Zone.  The Community Zone is viewable from the outside due to the room having walls of windows.  The Financial sections are all on ground level and have increased visibility. There are tons of activities for younger children like rock painting\, reading circle and Home Depot Kid Kits to work on.  They will have robots\, some giveaways\, music\, hands on career demonstrations\, dozens of colleges\, and more.
URL:https://rosemontca.org/event/scusdcareerfair2025/
LOCATION:Rosemont High School\, 9594 Kiefer Blvd\, Sacramento\, CA\, 95827\, United States
CATEGORIES:Community
ATTACH;FMTTYPE=image/png:https://rosemontca.org/wp-content/uploads/2025/07/CareerDay.png
END:VEVENT
BEGIN:VEVENT
DTSTART;TZID=America/Los_Angeles:20251018T100000
DTEND;TZID=America/Los_Angeles:20251018T130000
DTSTAMP:20260424T090014
CREATED:20251012T222908Z
LAST-MODIFIED:20251012T222908Z
UID:8646-1760781600-1760792400@rosemontca.org
SUMMARY:6th Annual PUMPKIN GIVEAWAY & FOOD DRIVE
DESCRIPTION:Free pumpkins (one for each child that is present)\, treat bags and books for the kids. Your donations of canned\, boxed\, and packaged food will benefit Capital Compassion. The Garden City Church ice cream truck will be on hand as well as Rosemont Reads. This event is made possible by our partnership with Save Mart and a donation from Andre’s Tree Service.
URL:https://rosemontca.org/event/6th-annual-pumpkin-giveaway-food-drive/
LOCATION:Save Mart – Kiefer Blvd.\, Rosemont\, CA
ATTACH;FMTTYPE=image/jpeg:https://rosemontca.org/wp-content/uploads/2025/10/Website-image-1.jpg
END:VEVENT
BEGIN:VEVENT
DTSTART;TZID=America/Los_Angeles:20251115T100000
DTEND;TZID=America/Los_Angeles:20251115T140000
DTSTAMP:20260424T090014
CREATED:20251030T045657Z
LAST-MODIFIED:20251030T045657Z
UID:8762-1763200800-1763215200@rosemontca.org
SUMMARY:COMMUNITY FOOD DRIVE
DESCRIPTION:In anticipation of the need for increased food supplies during the government shutdown\, RCA will be holding a joint food drive to benefit both of our local Rosemont food closets at Atonement Lutheran Church and Elevation of the Holy Cross Orthodox Church. \nIf you are unable to come to the Food Drive\, you may drop off items at The Sandwich Spot in the TS Food Mart shopping center between November 3-14. \nThank you in advance for your generosity.
URL:https://rosemontca.org/event/community-food-drive/
LOCATION:Atonement Lutheran Church\, 9242 Kiefer Blvd.\, Rosemeont\, 95826\, United States
ATTACH;FMTTYPE=image/jpeg:https://rosemontca.org/wp-content/uploads/2025/10/Food-Drive-Web.jpg
END:VEVENT
BEGIN:VEVENT
DTSTART;TZID=America/Los_Angeles:20251209T180000
DTEND;TZID=America/Los_Angeles:20251209T200000
DTSTAMP:20260424T090014
CREATED:20251125T213808Z
LAST-MODIFIED:20251125T213808Z
UID:8790-1765303200-1765310400@rosemontca.org
SUMMARY:Santa Parade & Toy Drive\, Dec. 9th & 10th
DESCRIPTION:Ho! Ho! Ho! Santa is taking to the streets of Rosemont again\, not once\, but twice!! The December 9 parade will be on the south side of Kiefer Blvd. starting at Primrose Park\, and on December 10\, the parade will switch to the north side of Kiefer Blvd. starting at Rosemont Community Park. Both parades begin at 6:00 pm. Accompanying the parade will be elves passing out candy and after Santa goes by\, the toy pickup vehicle will be happy to receive any new\, unwrapped toys you’d like to contribute to the Sheriff’s Toy Project. It’s a magical night you won’t want to miss! Have a safe and joyous season of love and kindness! \n (Note: Golden Pond Senior Living is a toy drop-off location if you can’t make the parade.) \nFor maps\, go to the Home page.
URL:https://rosemontca.org/event/santa-parade-toy-drive-dec-9th-10th/
ATTACH;FMTTYPE=image/jpeg:https://rosemontca.org/wp-content/uploads/2025/11/Website-image.jpg
END:VEVENT
BEGIN:VEVENT
DTSTART;TZID=America/Los_Angeles:20260425T100000
DTEND;TZID=America/Los_Angeles:20260425T140000
DTSTAMP:20260424T090014
CREATED:20260313T143311Z
LAST-MODIFIED:20260316T190922Z
UID:14208-1777111200-1777125600@rosemontca.org
SUMMARY:Rosemont Earth Day Party
DESCRIPTION:Rosemont’s little Earth Day Party will return this year to celebrate our planet\, what it has to give us\, and how we can take care of it. Pick up your “Passport” at the registration table and collect free snacks and raffle tickets. Get all your Passport boxes checked to win a prize. \nOrganizations will be on hand to give out information and answer your questions on bees\, composting\, gardening\, power\, and more. Kids will be happy to see the “Earth Zone” return with lots of inflatable globes to throw and kick around. A great day for fun-filled learning!
URL:https://rosemontca.org/event/rosemont-earth-day-party/
LOCATION:Rosemont Community Park\, 9326 Americana Way\, Sacramento\, CA\, 95826\, United States
ATTACH;FMTTYPE=image/jpeg:https://rosemontca.org/wp-content/uploads/2026/03/Calendar-Image-1.jpg
END:VEVENT
END:VCALENDAR