BEGIN:VCALENDAR
VERSION:2.0
PRODID:-//Rosemont Community Association - ECPv6.15.10//NONSGML v1.0//EN
CALSCALE:GREGORIAN
METHOD:PUBLISH
X-WR-CALNAME:Rosemont Community Association
X-ORIGINAL-URL:https://rosemontca.org
X-WR-CALDESC:Events for Rosemont Community Association
REFRESH-INTERVAL;VALUE=DURATION:PT1H
X-Robots-Tag:noindex
X-PUBLISHED-TTL:PT1H
BEGIN:VTIMEZONE
TZID:America/Los_Angeles
BEGIN:DAYLIGHT
TZOFFSETFROM:-0800
TZOFFSETTO:-0700
TZNAME:PDT
DTSTART:20140309T100000
END:DAYLIGHT
BEGIN:STANDARD
TZOFFSETFROM:-0700
TZOFFSETTO:-0800
TZNAME:PST
DTSTART:20141102T090000
END:STANDARD
BEGIN:DAYLIGHT
TZOFFSETFROM:-0800
TZOFFSETTO:-0700
TZNAME:PDT
DTSTART:20150308T100000
END:DAYLIGHT
BEGIN:STANDARD
TZOFFSETFROM:-0700
TZOFFSETTO:-0800
TZNAME:PST
DTSTART:20151101T090000
END:STANDARD
BEGIN:DAYLIGHT
TZOFFSETFROM:-0800
TZOFFSETTO:-0700
TZNAME:PDT
DTSTART:20160313T100000
END:DAYLIGHT
BEGIN:STANDARD
TZOFFSETFROM:-0700
TZOFFSETTO:-0800
TZNAME:PST
DTSTART:20161106T090000
END:STANDARD
END:VTIMEZONE
BEGIN:VEVENT
DTSTART;TZID=America/Los_Angeles:20150904T170000
DTEND;TZID=America/Los_Angeles:20150904T200000
DTSTAMP:20260425T090500
CREATED:20150423T210947Z
LAST-MODIFIED:20150423T211253Z
UID:757-1441386000-1441396800@rosemontca.org
SUMMARY:Food Truck Fest
DESCRIPTION:Bring the whole family out to Rosemont Community Park for an evening of food and fun – weather permitting of course.
URL:https://rosemontca.org/event/food-truck-fest-4/
LOCATION:Rosemont Community Park\, 9326 Americana Way\, Sacramento\, CA\, 95826\, United States
CATEGORIES:Food Truck Fest
ATTACH;FMTTYPE=image/jpeg:https://rosemontca.org/wp-content/uploads/2015/03/IMG_46291.jpg
END:VEVENT
BEGIN:VEVENT
DTSTART;TZID=America/Los_Angeles:20150903T190000
DTEND;TZID=America/Los_Angeles:20150903T210000
DTSTAMP:20260425T090500
CREATED:20150423T210810Z
LAST-MODIFIED:20150423T210810Z
UID:756-1441306800-1441314000@rosemontca.org
SUMMARY:RCA Board Meeting
DESCRIPTION:Monthly RCA Board meeting to discuss upcoming community events and the current status of RCA programs. All are welcome. Check the RCA website the week prior for additional details.
URL:https://rosemontca.org/event/rca-board-meeting-5/
LOCATION:Atonement Church\, 9242 Kiefer Blvd\, Sacramento\, CA\, 95826\, United States
CATEGORIES:Board Meeting
ATTACH;FMTTYPE=image/jpeg:https://rosemontca.org/wp-content/uploads/2015/04/036.jpg
END:VEVENT
BEGIN:VEVENT
DTSTART;TZID=America/Los_Angeles:20150822T093000
DTEND;TZID=America/Los_Angeles:20150822T140000
DTSTAMP:20260425T090500
CREATED:20150401T080015Z
LAST-MODIFIED:20150726T172515Z
UID:245-1440235800-1440252000@rosemontca.org
SUMMARY:7th Annual Celebration of Community
DESCRIPTION:Join the fun on Saturday August 22nd at Rosemont Community Park at the annual Celebration of Community. The Celebration highlights all the wonderful people and activities here in Rosemont. There is something for everyone in the family – including free food. Our thanks to all the donors and volunteers who make this great event a popular success.
URL:https://rosemontca.org/event/6th-annual-celebration-of-community/
LOCATION:Rosemont Community Park\, 9326 Americana Way\, Sacramento\, CA\, 95826\, United States
CATEGORIES:Community
ATTACH;FMTTYPE=image/jpeg:https://rosemontca.org/wp-content/uploads/2015/04/DSC_1250.jpg
END:VEVENT
BEGIN:VEVENT
DTSTART;TZID=America/Los_Angeles:20150819T183000
DTEND;TZID=America/Los_Angeles:20150819T210000
DTSTAMP:20260425T090500
CREATED:20150421T223644Z
LAST-MODIFIED:20150421T223644Z
UID:708-1440009000-1440018000@rosemontca.org
SUMMARY:CRPD Board Meeting
DESCRIPTION:Monthly meeting of the CRPD Board of Directors dealing with District programs and services.
URL:https://rosemontca.org/event/crpd-board-meeting-4/
LOCATION:Council Meeting Room\, 2729 Prospect Park Dr.\, Rancho Cordova\, CA\, 95670\, United States
CATEGORIES:Cordova Recreation & Park District
ATTACH;FMTTYPE=image/jpeg:https://rosemontca.org/wp-content/uploads/2015/04/IMG_1028-1.jpg
END:VEVENT
BEGIN:VEVENT
DTSTART;TZID=America/Los_Angeles:20150814T170000
DTEND;TZID=America/Los_Angeles:20150814T200000
DTSTAMP:20260425T090500
CREATED:20150730T161150Z
LAST-MODIFIED:20150730T164336Z
UID:1278-1439571600-1439582400@rosemontca.org
SUMMARY:Party in the Park
DESCRIPTION:Join the Neil Orchard Senior Activities Center on August 14th from 5 PM – 8 PM at the Lincoln Village Park and Community Pool for a fun summer evening in the park with giveaways\, music\, pickleball preview and over forty vendors. The pool will be open to the public for free family swim night with an additional kid zone. \nFlier:  Party in the Park-2015
URL:https://rosemontca.org/event/part-in-the-park/
LOCATION:Lincoln Village Park & Community Pool\, 3450 Routier Road\, Sacramento\, CA\, 95827\, United States
END:VEVENT
BEGIN:VEVENT
DTSTART;TZID=America/Los_Angeles:20150807T170000
DTEND;TZID=America/Los_Angeles:20150807T200000
DTSTAMP:20260425T090500
CREATED:20150421T223534Z
LAST-MODIFIED:20150421T223534Z
UID:707-1438966800-1438977600@rosemontca.org
SUMMARY:Food Truck Fest
DESCRIPTION:Bring the whole family out to Rosemont Community Park for an evening of food and fun – weather permitting of course.
URL:https://rosemontca.org/event/food-truck-fest-3/
LOCATION:Rosemont Community Park\, 9326 Americana Way\, Sacramento\, CA\, 95826\, United States
CATEGORIES:Food Truck Fest
ATTACH;FMTTYPE=image/jpeg:https://rosemontca.org/wp-content/uploads/2015/03/IMG_46151.jpg
END:VEVENT
BEGIN:VEVENT
DTSTART;TZID=America/Los_Angeles:20150806T190000
DTEND;TZID=America/Los_Angeles:20150806T210000
DTSTAMP:20260425T090500
CREATED:20150421T223235Z
LAST-MODIFIED:20150421T223235Z
UID:706-1438887600-1438894800@rosemontca.org
SUMMARY:RCA Board Meeting
DESCRIPTION:Monthly RCA Board meeting to discuss upcoming community events and the current status of RCA programs. All are welcome. Check the RCA website the week prior for additional details.
URL:https://rosemontca.org/event/rca-board-meeting-4/
LOCATION:Atonement Church\, 9242 Kiefer Blvd\, Sacramento\, CA\, 95826\, United States
CATEGORIES:Board Meeting
ATTACH;FMTTYPE=image/jpeg:https://rosemontca.org/wp-content/uploads/2015/04/005.jpg
END:VEVENT
BEGIN:VEVENT
DTSTART;TZID=America/Los_Angeles:20150715T183000
DTEND;TZID=America/Los_Angeles:20150715T210000
DTSTAMP:20260425T090500
CREATED:20150421T222734Z
LAST-MODIFIED:20150421T222901Z
UID:705-1436985000-1436994000@rosemontca.org
SUMMARY:CRPD Board Meeting
DESCRIPTION:Monthly meeting of the CRPD Board of Directors dealing with District programs and services.
URL:https://rosemontca.org/event/crpd-board-meeting-3/
LOCATION:Council Meeting Room\, 2729 Prospect Park Dr.\, Rancho Cordova\, CA\, 95670\, United States
CATEGORIES:Cordova Recreation & Park District
ATTACH;FMTTYPE=image/jpeg:https://rosemontca.org/wp-content/uploads/2015/04/IMG_1028-1.jpg
END:VEVENT
BEGIN:VEVENT
DTSTART;TZID=America/Los_Angeles:20150711T084500
DTEND;TZID=America/Los_Angeles:20150711T110000
DTSTAMP:20260425T090500
CREATED:20150421T222523Z
LAST-MODIFIED:20150421T222523Z
UID:704-1436604300-1436612400@rosemontca.org
SUMMARY:Kiefer Cleanup
DESCRIPTION:Join your neighbors and help clean up trash along Kiefer Blvd.\, our main street\, and keep Rosemont looking nice. Just bring you gloves\, a hat\, and a water bottle – we’ll supply the rest. Check the RCA website a week prior for more details.
URL:https://rosemontca.org/event/kiefer-cleanup/
LOCATION:Atonement Church\, 9242 Kiefer Blvd\, Sacramento\, CA\, 95826\, United States
CATEGORIES:Kiefer Cleanup
ATTACH;FMTTYPE=image/jpeg:https://rosemontca.org/wp-content/uploads/2015/03/IMG_3138.jpg
END:VEVENT
BEGIN:VEVENT
DTSTART;TZID=America/Los_Angeles:20150703T170000
DTEND;TZID=America/Los_Angeles:20150703T200000
DTSTAMP:20260425T090500
CREATED:20150401T080054Z
LAST-MODIFIED:20150420T175112Z
UID:246-1435942800-1435953600@rosemontca.org
SUMMARY:Food Truck Fest
DESCRIPTION:Bring the whole family out to this fun and tasty evening – weather permitting of course. \nThis slideshow requires JavaScript.
URL:https://rosemontca.org/event/food-truck-fest/
LOCATION:Rosemont Community Park\, 9326 Americana Way\, Sacramento\, CA\, 95826\, United States
CATEGORIES:Community
ATTACH;FMTTYPE=image/jpeg:https://rosemontca.org/wp-content/uploads/2015/03/IMG_46211.jpg
END:VEVENT
BEGIN:VEVENT
DTSTART;TZID=America/Los_Angeles:20150702T190000
DTEND;TZID=America/Los_Angeles:20150702T210000
DTSTAMP:20260425T090500
CREATED:20150421T221939Z
LAST-MODIFIED:20150421T221939Z
UID:703-1435863600-1435870800@rosemontca.org
SUMMARY:RCA Board Meeting
DESCRIPTION:Monthly RCA Board meeting to discuss upcoming community events and the current status of RCA programs. All are welcome. Check the RCA website the week prior for additional details.
URL:https://rosemontca.org/event/rca-board-meeting-3/
LOCATION:Atonement Church\, 9242 Kiefer Blvd\, Sacramento\, CA\, 95826\, United States
CATEGORIES:Board Meeting
ATTACH;FMTTYPE=image/jpeg:https://rosemontca.org/wp-content/uploads/2015/04/IMG_1014-1.jpg
END:VEVENT
BEGIN:VEVENT
DTSTART;TZID=America/Los_Angeles:20150627T113000
DTEND;TZID=America/Los_Angeles:20150627T150000
DTSTAMP:20260425T090500
CREATED:20150608T220853Z
LAST-MODIFIED:20150608T220853Z
UID:1179-1435404600-1435417200@rosemontca.org
SUMMARY:CRPD Hawaiian Luau
DESCRIPTION:CRPD Hawaiian Luau at the Neil Orchard Senior Activities Center. See attached flier for additional information:  20150627 Luau Flyer
URL:https://rosemontca.org/event/crpd-hawaiian-luau/
LOCATION:Neil Orchard Senior Activities Center\, 3480 Routier Road\, Sacramento\, CA\, United States
ATTACH;FMTTYPE=image/jpeg:https://rosemontca.org/wp-content/uploads/2015/05/084.jpg
END:VEVENT
BEGIN:VEVENT
DTSTART;TZID=America/Los_Angeles:20150620T100000
DTEND;TZID=America/Los_Angeles:20150620T140000
DTSTAMP:20260425T090500
CREATED:20150616T190236Z
LAST-MODIFIED:20150616T190236Z
UID:1204-1434794400-1434808800@rosemontca.org
SUMMARY:Unity in the Community
DESCRIPTION:Rosemont Community Park will be the center of action and excitement on Saturday\, June 20 from 10am to 2pm as the Sacramento Sheriff Department takes over with its Unity in Community event. There will be demonstrations of K-9s in action\, displays\, activities\, lots of information about the services the SSD provides and how to access it\, and there will even be Star\, the SSD Helicopter.
URL:https://rosemontca.org/event/unity-in-the-community/
LOCATION:Rosemont Community Park\, 9326 Americana Way\, Sacramento\, CA\, 95826\, United States
END:VEVENT
BEGIN:VEVENT
DTSTART;TZID=America/Los_Angeles:20150617T183000
DTEND;TZID=America/Los_Angeles:20150617T210000
DTSTAMP:20260425T090500
CREATED:20150421T221518Z
LAST-MODIFIED:20150421T221745Z
UID:702-1434565800-1434574800@rosemontca.org
SUMMARY:CRPD Board Meeting
DESCRIPTION:Monthly meeting of the CRPD Board of Directors dealing with District programs and services.
URL:https://rosemontca.org/event/crpd-board-meeting-2/
LOCATION:Council Meeting Room\, 2729 Prospect Park Dr.\, Rancho Cordova\, CA\, 95670\, United States
CATEGORIES:Cordova Recreation & Park District
ATTACH;FMTTYPE=image/jpeg:https://rosemontca.org/wp-content/uploads/2015/04/IMG_1028-1.jpg
END:VEVENT
BEGIN:VEVENT
DTSTART;TZID=America/Los_Angeles:20150605T170000
DTEND;TZID=America/Los_Angeles:20150605T200000
DTSTAMP:20260425T090500
CREATED:20150421T221333Z
LAST-MODIFIED:20150421T221333Z
UID:701-1433523600-1433534400@rosemontca.org
SUMMARY:Food Truck Fest
DESCRIPTION:Bring the whole family out to Rosemont Community Park for an evening of food and fun – weather permitting of course.
URL:https://rosemontca.org/event/food-truck-fest-2/
LOCATION:Rosemont Community Park\, 9326 Americana Way\, Sacramento\, CA\, 95826\, United States
CATEGORIES:Food Truck Fest
ATTACH;FMTTYPE=image/jpeg:https://rosemontca.org/wp-content/uploads/2015/03/IMG_46211.jpg
END:VEVENT
BEGIN:VEVENT
DTSTART;TZID=America/Los_Angeles:20150604T190000
DTEND;TZID=America/Los_Angeles:20150604T210000
DTSTAMP:20260425T090500
CREATED:20150421T220547Z
LAST-MODIFIED:20150421T220913Z
UID:699-1433444400-1433451600@rosemontca.org
SUMMARY:RCA Board Meeting
DESCRIPTION:Monthly RCA Board meeting to discuss upcoming community events and the current status of RCA programs. All are welcome. Check the RCA website the week prior for additional details.
URL:https://rosemontca.org/event/rca-board-meeting-2/
LOCATION:Atonement Church\, 9242 Kiefer Blvd\, Sacramento\, CA\, 95826\, United States
CATEGORIES:Board Meeting
ATTACH;FMTTYPE=image/jpeg:https://rosemontca.org/wp-content/uploads/2015/04/IMG_1023-1.jpg
END:VEVENT
BEGIN:VEVENT
DTSTART;TZID=America/Los_Angeles:20150521T184500
DTEND;TZID=America/Los_Angeles:20150521T210000
DTSTAMP:20260425T090500
CREATED:20150421T220101Z
LAST-MODIFIED:20150421T220101Z
UID:698-1432233900-1432242000@rosemontca.org
SUMMARY:Much Ado About Nothing
DESCRIPTION:Einstein Middle School Theatrical Productions in partnership with The Sacramento Theater Company is producing Shakespeare’s “Much Ado About Nothing.” The play will run Wednesday\, May 20 and Thursday\, May 21 starting at 6:45 pm. STC provides valuable training to our EMS students as part of its community outreach program.
URL:https://rosemontca.org/event/much-ado-about-nothing-2/
LOCATION:Einstein Middle School\, 9325 Mirandy Ave\, Sacramento\, CA\, 95826\, United States
CATEGORIES:School Event
ATTACH;FMTTYPE=image/jpeg:https://rosemontca.org/wp-content/uploads/2015/04/Einstein.jpg
END:VEVENT
BEGIN:VEVENT
DTSTART;TZID=America/Los_Angeles:20150520T184500
DTEND;TZID=America/Los_Angeles:20150520T210000
DTSTAMP:20260425T090500
CREATED:20150421T215903Z
LAST-MODIFIED:20150421T220136Z
UID:695-1432147500-1432155600@rosemontca.org
SUMMARY:Much Ado About Nothing
DESCRIPTION:Einstein Middle School Theatrical Productions in partnership with The Sacramento Theater Company is producing Shakespeare’s “Much Ado About Nothing.” The play will run Wednesday\, May 20 and Thursday\, May 21 starting at 6:45 pm. STC provides valuable training to our EMS students as part of its community outreach program.
URL:https://rosemontca.org/event/much-ado-about-nothing/
LOCATION:Einstein Middle School\, 9325 Mirandy Ave\, Sacramento\, CA\, 95826\, United States
CATEGORIES:School Event
ATTACH;FMTTYPE=image/jpeg:https://rosemontca.org/wp-content/uploads/2015/04/Einstein.jpg
END:VEVENT
BEGIN:VEVENT
DTSTART;TZID=America/Los_Angeles:20150520T183000
DTEND;TZID=America/Los_Angeles:20150520T210000
DTSTAMP:20260425T090500
CREATED:20150421T215454Z
LAST-MODIFIED:20150421T215534Z
UID:692-1432146600-1432155600@rosemontca.org
SUMMARY:CRPD Board Meeting
DESCRIPTION:Monthly meeting of the CRPD Board of Directors dealing with District programs and services.
URL:https://rosemontca.org/event/crpd-board-meeting/
LOCATION:Council Meeting Room\, 2729 Prospect Park Dr.\, Rancho Cordova\, CA\, 95670\, United States
CATEGORIES:Cordova Recreation & Park District
ATTACH;FMTTYPE=image/jpeg:https://rosemontca.org/wp-content/uploads/2015/04/IMG_1028-1.jpg
END:VEVENT
BEGIN:VEVENT
DTSTART;TZID=America/Los_Angeles:20150516T090000
DTEND;TZID=America/Los_Angeles:20150516T120000
DTSTAMP:20260425T090500
CREATED:20150511T184045Z
LAST-MODIFIED:20150511T184400Z
UID:879-1431766800-1431777600@rosemontca.org
SUMMARY:Graffiti Cleanup
DESCRIPTION:Hi Graffiti Busters\, \nIf you don’t mind getting a little wet and would like to help out\, we are looking for 3-4 volunteers to do some power washing and possibly some light shrub trimming on Saturday\, May 16 at 9 am.  All of this is being done in preparation for the repainting of the wall on Kiefer Blvd between TallyHo Drive and Arderly Court. If you are interested in volunteering please email us at graffiti@rosemontca.org
URL:https://rosemontca.org/event/graffiti-cleanup/
LOCATION:CA
ATTACH;FMTTYPE=image/jpeg:https://rosemontca.org/wp-content/uploads/2015/03/4.jpg
END:VEVENT
BEGIN:VEVENT
DTSTART;TZID=America/Los_Angeles:20150516T080000
DTEND;TZID=America/Los_Angeles:20150516T140000
DTSTAMP:20260425T090500
CREATED:20150428T042926Z
LAST-MODIFIED:20150428T042926Z
UID:831-1431763200-1431784800@rosemontca.org
SUMMARY:Community Rummage Sale
DESCRIPTION:Rosemont High School is organizing a community rummage sale on May 16th at RHS from 8 AM to 2 PM.
URL:https://rosemontca.org/event/community-rummage-sale/
LOCATION:Rosemont High School\, 9594 Kiefer Blvd\, Sacramento\, CA\, 95827\, United States
CATEGORIES:School Event
ATTACH;FMTTYPE=image/jpeg:https://rosemontca.org/wp-content/uploads/2015/04/RHS-1.jpg
END:VEVENT
BEGIN:VEVENT
DTSTART;TZID=America/Los_Angeles:20150515T160000
DTEND;TZID=America/Los_Angeles:20150515T200000
DTSTAMP:20260425T090500
CREATED:20150401T070151Z
LAST-MODIFIED:20150420T175607Z
UID:617-1431705600-1431720000@rosemontca.org
SUMMARY:Marshall Spring Carnival
DESCRIPTION:Come visit Jame Marshall Elementary School and partake in its spring carnival. This is a family fun event that will showcase the activities students are involved in.
URL:https://rosemontca.org/event/marshall-spring-carnival/
LOCATION:Marshall Elementary School\, 9525 Goethe Road\, Sacramento\, CA\, 95827\, United States
CATEGORIES:School Event
END:VEVENT
BEGIN:VEVENT
DTSTART;TZID=America/Los_Angeles:20150513T183000
DTEND;TZID=America/Los_Angeles:20150513T210000
DTSTAMP:20260425T090500
CREATED:20150401T070521Z
LAST-MODIFIED:20150429T001931Z
UID:41-1431541800-1431550800@rosemontca.org
SUMMARY:Annual Membership Meeting
DESCRIPTION:The RCA Annual Membership Meeting will be Wednesday\, May 13th at the Rosemont High School cafeteria and will begin at 6:30 PM. Some of your local elected representatives will be in attendance so come join us to discuss the pressing issues facing Rosemont. \nThis slideshow requires JavaScript. \n 
URL:https://rosemontca.org/event/annual-general-membership-meeting/
LOCATION:Rosemont High School cafeteria\, Rosemont High School\, 9594 Kiefer Boulevard\,\, Sacramento\, CA\, 95827\, United States
CATEGORIES:Membership
ATTACH;FMTTYPE=image/jpeg:https://rosemontca.org/wp-content/uploads/2015/03/DSC_0844.jpg
END:VEVENT
BEGIN:VEVENT
DTSTART;TZID=America/Los_Angeles:20150508T170000
DTEND;TZID=America/Los_Angeles:20150508T210000
DTSTAMP:20260425T090500
CREATED:20150429T001801Z
LAST-MODIFIED:20150429T001801Z
UID:846-1431104400-1431118800@rosemontca.org
SUMMARY:RHS Family Dinner & Game Night
DESCRIPTION:The Rosemont High School PTSA is organizing a family dinner and game night at the RHS cafeteria. See attached flier for cost and reservation info: \n\nFamilyGameNightFlyr
URL:https://rosemontca.org/event/rhs-family-dinner-game-night/
LOCATION:Rosemont High School cafeteria\, Rosemont High School\, 9594 Kiefer Boulevard\,\, Sacramento\, CA\, 95827\, United States
CATEGORIES:School Event
ATTACH;FMTTYPE=image/jpeg:https://rosemontca.org/wp-content/uploads/2015/04/RHS-1.jpg
END:VEVENT
BEGIN:VEVENT
DTSTART;TZID=America/Los_Angeles:20150507T190000
DTEND;TZID=America/Los_Angeles:20150507T210000
DTSTAMP:20260425T090500
CREATED:20150401T070100Z
LAST-MODIFIED:20150421T220959Z
UID:605-1431025200-1431032400@rosemontca.org
SUMMARY:RCA Board Meeting
DESCRIPTION:Hearing on Kiefer Banners Set\nRCA together with the County has been working on a way to help alert our community to major events happening here\, and we have proposed a plan to install a banner system over Kiefer Blvd. just west of South Port Dr. The banners will announe upcomming events in Rosemont. To comply with County procedures\, there will be a public hearing on the plan to be held on Thursday\, May 7 at 7:00pm at the start of the monthly RCA Board meeting at Atonement Church\, 9242 Kiefer Blvd. All are invited to learn more about the proposal and offer your thoughts.
URL:https://rosemontca.org/event/rca-board-meeting/
LOCATION:Atonement Church\, 9242 Kiefer Blvd\, Sacramento\, CA\, 95826\, United States
CATEGORIES:Board Meeting
ATTACH;FMTTYPE=image/jpeg:https://rosemontca.org/wp-content/uploads/2015/04/IMG_1023-1.jpg
END:VEVENT
BEGIN:VEVENT
DTSTART;TZID=America/Los_Angeles:20150501T170000
DTEND;TZID=America/Los_Angeles:20150501T200000
DTSTAMP:20260425T090500
CREATED:20150401T070120Z
LAST-MODIFIED:20150420T175840Z
UID:615-1430499600-1430510400@rosemontca.org
SUMMARY:Food Truck Fest & Movie
DESCRIPTION:Join your neighbors for the monthly Food Truck Fest (FTF) on May 1st\, at 5 PM at the Rosemont Community Park. This month’s FTF is partnering with Cordova Recreation & Park District to show a family freindly movie!
URL:https://rosemontca.org/event/food-truck-fest-movie/
LOCATION:Rosemont Community Park\, 9326 Americana Way\, Sacramento\, CA\, 95826\, United States
CATEGORIES:Community
END:VEVENT
BEGIN:VEVENT
DTSTART;TZID=America/Los_Angeles:20150425T080000
DTEND;TZID=America/Los_Angeles:20150425T170000
DTSTAMP:20260425T090500
CREATED:20150319T074636Z
LAST-MODIFIED:20150319T074636Z
UID:16-1429948800-1429981200@rosemontca.org
SUMMARY:2015 Rosemont 5k Scholarship Run
DESCRIPTION:Saturday\, April 25\nRegister online today! \nThe Rosemont 5k Scholarship Run is back! The PTSA would like to invite you and your friends to come out and enjoy this community event.\nThis event is sponsored by RHS PTSA and raises funds for scholarships for graduating seniors.\nA link to the PTSA Scholarship application can be found below.\nLike our event on Facebook for updates!
URL:https://rosemontca.org/event/2015-rosemont-5k-scholarship-run/
LOCATION:CA
CATEGORIES:School Event
ATTACH;FMTTYPE=image/jpeg:https://rosemontca.org/wp-content/uploads/2015/03/Ultraman_run.finish_old.airport_Rick©Kent.jpg
END:VEVENT
BEGIN:VEVENT
DTSTART;TZID=America/Los_Angeles:20150410T170000
DTEND;TZID=America/Los_Angeles:20150410T220000
DTSTAMP:20260425T090500
CREATED:20160319T070128Z
LAST-MODIFIED:20150420T160713Z
UID:15-1428685200-1428703200@rosemontca.org
SUMMARY:Rosemont High School Presents - Essence of Rosemont
DESCRIPTION:Friday\, April 10 • 5-8pm\nFamily Movie in the Quad at 8pm \nThis is a celebration for the whole community. RHS classes and clubs will be there to entertain and show off the best of Rosemont!
URL:https://rosemontca.org/event/rosemont-high-school-presents-essence-of-rosemont/
LOCATION:Rosemont High School cafeteria\, Rosemont High School\, 9594 Kiefer Boulevard\,\, Sacramento\, CA\, 95827\, United States
CATEGORIES:School Event
END:VEVENT
END:VCALENDAR