BEGIN:VCALENDAR
VERSION:2.0
PRODID:-//Rosemont Community Association - ECPv6.15.10//NONSGML v1.0//EN
CALSCALE:GREGORIAN
METHOD:PUBLISH
X-WR-CALNAME:Rosemont Community Association
X-ORIGINAL-URL:https://rosemontca.org
X-WR-CALDESC:Events for Rosemont Community Association
REFRESH-INTERVAL;VALUE=DURATION:PT1H
X-Robots-Tag:noindex
X-PUBLISHED-TTL:PT1H
BEGIN:VTIMEZONE
TZID:America/Los_Angeles
BEGIN:DAYLIGHT
TZOFFSETFROM:-0800
TZOFFSETTO:-0700
TZNAME:PDT
DTSTART:20140309T100000
END:DAYLIGHT
BEGIN:STANDARD
TZOFFSETFROM:-0700
TZOFFSETTO:-0800
TZNAME:PST
DTSTART:20141102T090000
END:STANDARD
BEGIN:DAYLIGHT
TZOFFSETFROM:-0800
TZOFFSETTO:-0700
TZNAME:PDT
DTSTART:20150308T100000
END:DAYLIGHT
BEGIN:STANDARD
TZOFFSETFROM:-0700
TZOFFSETTO:-0800
TZNAME:PST
DTSTART:20151101T090000
END:STANDARD
BEGIN:DAYLIGHT
TZOFFSETFROM:-0800
TZOFFSETTO:-0700
TZNAME:PDT
DTSTART:20160313T100000
END:DAYLIGHT
BEGIN:STANDARD
TZOFFSETFROM:-0700
TZOFFSETTO:-0800
TZNAME:PST
DTSTART:20161106T090000
END:STANDARD
END:VTIMEZONE
BEGIN:VEVENT
DTSTART;TZID=America/Los_Angeles:20150425T080000
DTEND;TZID=America/Los_Angeles:20150425T170000
DTSTAMP:20260425T211348
CREATED:20150319T074636Z
LAST-MODIFIED:20150319T074636Z
UID:16-1429948800-1429981200@rosemontca.org
SUMMARY:2015 Rosemont 5k Scholarship Run
DESCRIPTION:Saturday\, April 25\nRegister online today! \nThe Rosemont 5k Scholarship Run is back! The PTSA would like to invite you and your friends to come out and enjoy this community event.\nThis event is sponsored by RHS PTSA and raises funds for scholarships for graduating seniors.\nA link to the PTSA Scholarship application can be found below.\nLike our event on Facebook for updates!
URL:https://rosemontca.org/event/2015-rosemont-5k-scholarship-run/
LOCATION:CA
CATEGORIES:School Event
ATTACH;FMTTYPE=image/jpeg:https://rosemontca.org/wp-content/uploads/2015/03/Ultraman_run.finish_old.airport_Rick©Kent.jpg
END:VEVENT
BEGIN:VEVENT
DTSTART;TZID=America/Los_Angeles:20150410T170000
DTEND;TZID=America/Los_Angeles:20150410T220000
DTSTAMP:20260425T211348
CREATED:20160319T070128Z
LAST-MODIFIED:20150420T160713Z
UID:15-1428685200-1428703200@rosemontca.org
SUMMARY:Rosemont High School Presents - Essence of Rosemont
DESCRIPTION:Friday\, April 10 • 5-8pm\nFamily Movie in the Quad at 8pm \nThis is a celebration for the whole community. RHS classes and clubs will be there to entertain and show off the best of Rosemont!
URL:https://rosemontca.org/event/rosemont-high-school-presents-essence-of-rosemont/
LOCATION:Rosemont High School cafeteria\, Rosemont High School\, 9594 Kiefer Boulevard\,\, Sacramento\, CA\, 95827\, United States
CATEGORIES:School Event
END:VEVENT
END:VCALENDAR