BEGIN:VCALENDAR
VERSION:2.0
PRODID:-//Rosemont Community Association - ECPv6.15.10//NONSGML v1.0//EN
CALSCALE:GREGORIAN
METHOD:PUBLISH
X-WR-CALNAME:Rosemont Community Association
X-ORIGINAL-URL:https://rosemontca.org
X-WR-CALDESC:Events for Rosemont Community Association
REFRESH-INTERVAL;VALUE=DURATION:PT1H
X-Robots-Tag:noindex
X-PUBLISHED-TTL:PT1H
BEGIN:VTIMEZONE
TZID:America/Los_Angeles
BEGIN:DAYLIGHT
TZOFFSETFROM:-0800
TZOFFSETTO:-0700
TZNAME:PDT
DTSTART:20180311T100000
END:DAYLIGHT
BEGIN:STANDARD
TZOFFSETFROM:-0700
TZOFFSETTO:-0800
TZNAME:PST
DTSTART:20181104T090000
END:STANDARD
BEGIN:DAYLIGHT
TZOFFSETFROM:-0800
TZOFFSETTO:-0700
TZNAME:PDT
DTSTART:20190310T100000
END:DAYLIGHT
BEGIN:STANDARD
TZOFFSETFROM:-0700
TZOFFSETTO:-0800
TZNAME:PST
DTSTART:20191103T090000
END:STANDARD
BEGIN:DAYLIGHT
TZOFFSETFROM:-0800
TZOFFSETTO:-0700
TZNAME:PDT
DTSTART:20200308T100000
END:DAYLIGHT
BEGIN:STANDARD
TZOFFSETFROM:-0700
TZOFFSETTO:-0800
TZNAME:PST
DTSTART:20201101T090000
END:STANDARD
BEGIN:DAYLIGHT
TZOFFSETFROM:-0800
TZOFFSETTO:-0700
TZNAME:PDT
DTSTART:20210314T100000
END:DAYLIGHT
BEGIN:STANDARD
TZOFFSETFROM:-0700
TZOFFSETTO:-0800
TZNAME:PST
DTSTART:20211107T090000
END:STANDARD
BEGIN:DAYLIGHT
TZOFFSETFROM:-0800
TZOFFSETTO:-0700
TZNAME:PDT
DTSTART:20220313T100000
END:DAYLIGHT
BEGIN:STANDARD
TZOFFSETFROM:-0700
TZOFFSETTO:-0800
TZNAME:PST
DTSTART:20221106T090000
END:STANDARD
BEGIN:DAYLIGHT
TZOFFSETFROM:-0800
TZOFFSETTO:-0700
TZNAME:PDT
DTSTART:20230312T100000
END:DAYLIGHT
BEGIN:STANDARD
TZOFFSETFROM:-0700
TZOFFSETTO:-0800
TZNAME:PST
DTSTART:20231105T090000
END:STANDARD
END:VTIMEZONE
BEGIN:VEVENT
DTSTART;TZID=America/Los_Angeles:20220203T190000
DTEND;TZID=America/Los_Angeles:20220203T203000
DTSTAMP:20260424T053847
CREATED:20220112T234951Z
LAST-MODIFIED:20220112T234951Z
UID:6478-1643914800-1643920200@rosemontca.org
SUMMARY:RCA Monthly Board Meeting
DESCRIPTION:
URL:https://rosemontca.org/event/rca-monthly-board-meeting-32/
LOCATION:Online
END:VEVENT
BEGIN:VEVENT
DTSTART;TZID=America/Los_Angeles:20220203T190000
DTEND;TZID=America/Los_Angeles:20220203T203000
DTSTAMP:20260424T053847
CREATED:20210909T012240Z
LAST-MODIFIED:20210909T012307Z
UID:6244-1643914800-1643920200@rosemontca.org
SUMMARY:RCA Monthly Board Meeting
DESCRIPTION:
URL:https://rosemontca.org/event/rca-monthly-board-meeting-19/
LOCATION:Atonement Church\, 9242 Kiefer Blvd\, Sacramento\, CA\, 95826\, United States
CATEGORIES:Board Meeting
END:VEVENT
BEGIN:VEVENT
DTSTART;TZID=America/Los_Angeles:20220106T190000
DTEND;TZID=America/Los_Angeles:20220106T203000
DTSTAMP:20260424T053847
CREATED:20220112T234635Z
LAST-MODIFIED:20220112T234635Z
UID:6476-1641495600-1641501000@rosemontca.org
SUMMARY:RCA Monthly Board Meeting
DESCRIPTION:
URL:https://rosemontca.org/event/rca-monthly-board-meeting-31/
LOCATION:Online
END:VEVENT
BEGIN:VEVENT
DTSTART;TZID=America/Los_Angeles:20220106T190000
DTEND;TZID=America/Los_Angeles:20220106T203000
DTSTAMP:20260424T053847
CREATED:20210909T011640Z
LAST-MODIFIED:20210909T011640Z
UID:6241-1641495600-1641501000@rosemontca.org
SUMMARY:RCA Monthly Board Meeting
DESCRIPTION:
URL:https://rosemontca.org/event/rca-monthly-board-meeting-18/
LOCATION:Atonement Church\, 9242 Kiefer Blvd\, Sacramento\, CA\, 95826\, United States
CATEGORIES:Board Meeting
END:VEVENT
BEGIN:VEVENT
DTSTART;TZID=America/Los_Angeles:20211202T190000
DTEND;TZID=America/Los_Angeles:20211202T203000
DTSTAMP:20260424T053847
CREATED:20210909T011547Z
LAST-MODIFIED:20210909T011547Z
UID:6239-1638471600-1638477000@rosemontca.org
SUMMARY:RCA Monthly Board Meeting
DESCRIPTION:
URL:https://rosemontca.org/event/rca-monthly-board-meeting-17/
LOCATION:Atonement Church\, 9242 Kiefer Blvd\, Sacramento\, CA\, 95826\, United States
CATEGORIES:Board Meeting
END:VEVENT
BEGIN:VEVENT
DTSTART;TZID=America/Los_Angeles:20211104T190000
DTEND;TZID=America/Los_Angeles:20211104T203000
DTSTAMP:20260424T053847
CREATED:20210909T011303Z
LAST-MODIFIED:20210909T011303Z
UID:6235-1636052400-1636057800@rosemontca.org
SUMMARY:RCA Monthly Board Meeting
DESCRIPTION:
URL:https://rosemontca.org/event/rca-monthly-board-meeting-16/
LOCATION:Atonement Church\, 9242 Kiefer Blvd\, Sacramento\, CA\, 95826\, United States
CATEGORIES:Board Meeting
END:VEVENT
BEGIN:VEVENT
DTSTART;TZID=America/Los_Angeles:20211023T100000
DTEND;TZID=America/Los_Angeles:20211023T120000
DTSTAMP:20260424T053847
CREATED:20210909T014808Z
LAST-MODIFIED:20210909T014808Z
UID:6272-1634983200-1634990400@rosemontca.org
SUMMARY:RCA Annual Pumpkin Giveaway
DESCRIPTION:
URL:https://rosemontca.org/event/rca-annual-pumpkin-giveaway/
LOCATION:TBD\, Sacramento\, CA\, 95826\, United States
CATEGORIES:Pumpkin Giveaway
END:VEVENT
BEGIN:VEVENT
DTSTART;TZID=America/Los_Angeles:20211009T100000
DTEND;TZID=America/Los_Angeles:20211009T140000
DTSTAMP:20260424T053847
CREATED:20210909T011440Z
LAST-MODIFIED:20210909T011440Z
UID:6237-1633773600-1633788000@rosemontca.org
SUMMARY:RCA Annual Community Celebration In the Park
DESCRIPTION:
URL:https://rosemontca.org/event/rca-annual-community-celebration-in-the-park/
LOCATION:Rosemont Community Park\, 9326 Americana Way\, Sacramento\, CA\, 95826\, United States
CATEGORIES:Board Meeting
END:VEVENT
BEGIN:VEVENT
DTSTART;TZID=America/Los_Angeles:20211007T190000
DTEND;TZID=America/Los_Angeles:20211007T203000
DTSTAMP:20260424T053847
CREATED:20210909T011142Z
LAST-MODIFIED:20210909T011142Z
UID:6233-1633633200-1633638600@rosemontca.org
SUMMARY:RCA Monthly Board Meeting
DESCRIPTION:
URL:https://rosemontca.org/event/rca-monthly-board-meeting-15/
LOCATION:Atonement Church\, 9242 Kiefer Blvd\, Sacramento\, CA\, 95826\, United States
CATEGORIES:Board Meeting
END:VEVENT
BEGIN:VEVENT
DTSTART;TZID=America/Los_Angeles:20210902T190000
DTEND;TZID=America/Los_Angeles:20210902T203000
DTSTAMP:20260424T053847
CREATED:20210909T014017Z
LAST-MODIFIED:20210909T020518Z
UID:6266-1630609200-1630614600@rosemontca.org
SUMMARY:RCA Monthly Board Meeting
DESCRIPTION:
URL:https://rosemontca.org/event/rca-monthly-board-meeting-28/
LOCATION:Atonement Church\, 9242 Kiefer Blvd\, Sacramento\, CA\, 95826\, United States
CATEGORIES:Board Meeting
END:VEVENT
BEGIN:VEVENT
DTSTART;TZID=America/Los_Angeles:20200903T190000
DTEND;TZID=America/Los_Angeles:20200903T203000
DTSTAMP:20260424T053847
CREATED:20200828T072248Z
LAST-MODIFIED:20200828T072248Z
UID:5280-1599159600-1599165000@rosemontca.org
SUMMARY:RCA Monthly Board Meeting (Virtual)
DESCRIPTION:To Register\, please visit: http://bit.ly/rcasept2020
URL:https://rosemontca.org/event/rca-monthly-board-meeting-virtual/
LOCATION:Online
END:VEVENT
BEGIN:VEVENT
DTSTART;TZID=America/Los_Angeles:20200402T070000
DTEND;TZID=America/Los_Angeles:20200402T203000
DTSTAMP:20260424T053847
CREATED:20200330T062801Z
LAST-MODIFIED:20200330T062801Z
UID:4726-1585810800-1585859400@rosemontca.org
SUMMARY:CANCELLED - RCA Monthly Board Meeting
DESCRIPTION:CANCELLED – RCA Monthly Board Meeting
URL:https://rosemontca.org/event/cancelled-rca-monthly-board-meeting/
LOCATION:Atonement Church\, 9242 Kiefer Blvd\, Sacramento\, CA\, 95826\, United States
END:VEVENT
BEGIN:VEVENT
DTSTART;TZID=America/Los_Angeles:20200305T190000
DTEND;TZID=America/Los_Angeles:20200305T203000
DTSTAMP:20260424T053847
CREATED:20200330T062653Z
LAST-MODIFIED:20200330T062653Z
UID:4724-1583434800-1583440200@rosemontca.org
SUMMARY:RCA Monthly Board Meeting
DESCRIPTION:RCA Monthly Board Meeting
URL:https://rosemontca.org/event/rca-monthly-board-meeting-14/
LOCATION:Atonement Church\, 9242 Kiefer Blvd\, Sacramento\, CA\, 95826\, United States
END:VEVENT
BEGIN:VEVENT
DTSTART;TZID=America/Los_Angeles:20200206T190000
DTEND;TZID=America/Los_Angeles:20200206T203000
DTSTAMP:20260424T053847
CREATED:20200330T062602Z
LAST-MODIFIED:20200330T062602Z
UID:4722-1581015600-1581021000@rosemontca.org
SUMMARY:RCA Monthly Board Meeting
DESCRIPTION:RCA Monthly Board Meeting
URL:https://rosemontca.org/event/rca-monthly-board-meeting-13/
LOCATION:Atonement Church\, 9242 Kiefer Blvd\, Sacramento\, CA\, 95826\, United States
END:VEVENT
BEGIN:VEVENT
DTSTART;TZID=America/Los_Angeles:20200118T084500
DTEND;TZID=America/Los_Angeles:20200118T120000
DTSTAMP:20260424T053847
CREATED:20200103T223842Z
LAST-MODIFIED:20200103T223842Z
UID:4496-1579337100-1579348800@rosemontca.org
SUMMARY:Rosemont Community Tree Planting Event
DESCRIPTION:Please join us Saturday\, January 18th from 8:45am – 12:00pm for our neighborhood tree planting event in Rosemont Community Park. This is an excellent opportunity to come together and meet your neighbors. Lunch will be provided for volunteers. You can sign up to volunteer here: http://bit.ly/Rosemont0118 For questions\, please contact Tami Granada at tami@sactree.com See you there!
URL:https://rosemontca.org/event/rosemont-community-tree-planting-event/
LOCATION:Rosemont Community Park\, 9326 Americana Way\, Sacramento\, CA\, 95826\, United States
ORGANIZER;CN="Tami Granada":MAILTO:tami@sactree.com
END:VEVENT
BEGIN:VEVENT
DTSTART;TZID=America/Los_Angeles:20200111T084500
DTEND;TZID=America/Los_Angeles:20200111T110000
DTSTAMP:20260424T053847
CREATED:20190114T223732Z
LAST-MODIFIED:20190114T223732Z
UID:4152-1578732300-1578740400@rosemontca.org
SUMMARY:Kiefer Blvd Cleanup
DESCRIPTION:Since 2007\, RCA members have led an effort to keep Kiefer Blvd. clean of trash and debris. RCA volunteers conduct a quick and easy community service that typically takes less than two hours once every three months. The cleanup effort provides an engaging opportunity to meet with neighbors and provide the community an important service at the same time. \nVolunteers are always needed and gather in the front parking lot of the Atonement Church located at 9242 Kiefer Blvd. (at Westporter). Just bring your gloves\, a hat\, and a bottle of water – we’ll supply the rest. \nJoin a small crew of friends to help clean up our “main street” between Watt and Mayhew. Many hands make light – and fun – work. Gather at Atonement Church\, 9242 Kiefer\, at 8:45am.
URL:https://rosemontca.org/event/kiefer-blvd-cleanup-3/
LOCATION:CA
END:VEVENT
BEGIN:VEVENT
DTSTART;TZID=America/Los_Angeles:20200102T190000
DTEND;TZID=America/Los_Angeles:20200102T203000
DTSTAMP:20260424T053847
CREATED:20200330T062512Z
LAST-MODIFIED:20200330T062512Z
UID:4719-1577991600-1577997000@rosemontca.org
SUMMARY:RCA Monthly Board Meeting
DESCRIPTION:RCA Monthly Board Meeting
URL:https://rosemontca.org/event/rca-monthly-board-meeting-12/
LOCATION:Atonement Church\, 9242 Kiefer Blvd\, Sacramento\, CA\, 95826\, United States
END:VEVENT
BEGIN:VEVENT
DTSTART;TZID=America/Los_Angeles:20191210T180000
DTEND;TZID=America/Los_Angeles:20191210T193000
DTSTAMP:20260424T053847
CREATED:20191120T000723Z
LAST-MODIFIED:20191120T000723Z
UID:4451-1576000800-1576006200@rosemontca.org
SUMMARY:2019 Santa Parade & Toy Drive (North Rosemont)
DESCRIPTION:
URL:https://rosemontca.org/event/2019-santa-parade-toy-drive-north-rosemont/
LOCATION:James Marshall Elementary\, 9525 Goethe Road\, Sacramento\, 95827\, United States
END:VEVENT
BEGIN:VEVENT
DTSTART;TZID=America/Los_Angeles:20191209T180000
DTEND;TZID=America/Los_Angeles:20191209T193000
DTSTAMP:20260424T053847
CREATED:20191120T000530Z
LAST-MODIFIED:20191120T000530Z
UID:4449-1575914400-1575919800@rosemontca.org
SUMMARY:2019 Santa Parade & Toy Drive (South Rosemont)
DESCRIPTION:
URL:https://rosemontca.org/event/2019-santa-parade-toy-drive-south-rosemont/
LOCATION:Golden Empire Elementary School\, 9045 Canberra
END:VEVENT
BEGIN:VEVENT
DTSTART;TZID=America/Los_Angeles:20191205T190000
DTEND;TZID=America/Los_Angeles:20191205T203000
DTSTAMP:20260424T053847
CREATED:20190110T174938Z
LAST-MODIFIED:20190110T174938Z
UID:4117-1575572400-1575577800@rosemontca.org
SUMMARY:RCA Monthly Board Meeting
DESCRIPTION:
URL:https://rosemontca.org/event/rca-monthly-board-meeting-10/
LOCATION:Atonement Church\, 9242 Kiefer Blvd\, Sacramento\, CA\, 95826\, United States
END:VEVENT
BEGIN:VEVENT
DTSTART;TZID=America/Los_Angeles:20191119T180000
DTEND;TZID=America/Los_Angeles:20191119T193000
DTSTAMP:20260424T053847
CREATED:20190110T181226Z
LAST-MODIFIED:20190110T181226Z
UID:4138-1574186400-1574191800@rosemontca.org
SUMMARY:Neighborhood Watch Meeting
DESCRIPTION:
URL:https://rosemontca.org/event/neighborhood-watch-meeting-10/
LOCATION:Sacramento County Sherriff’s Department\, 2897 Kilgore Road\, Rancho Cordova\, CA\, 95670\, United States
END:VEVENT
BEGIN:VEVENT
DTSTART;TZID=America/Los_Angeles:20191107T190000
DTEND;TZID=America/Los_Angeles:20191107T203000
DTSTAMP:20260424T053847
CREATED:20190110T174644Z
LAST-MODIFIED:20190110T174644Z
UID:4115-1573153200-1573158600@rosemontca.org
SUMMARY:RCA Monthly Board Meeting
DESCRIPTION:
URL:https://rosemontca.org/event/rca-monthly-board-meeting-9/
LOCATION:Atonement Church\, 9242 Kiefer Blvd\, Sacramento\, CA\, 95826\, United States
END:VEVENT
BEGIN:VEVENT
DTSTART;TZID=America/Los_Angeles:20191015T180000
DTEND;TZID=America/Los_Angeles:20191015T193000
DTSTAMP:20260424T053847
CREATED:20190110T181048Z
LAST-MODIFIED:20190110T181048Z
UID:4136-1571162400-1571167800@rosemontca.org
SUMMARY:Neighborhood Watch Meeting
DESCRIPTION:
URL:https://rosemontca.org/event/neighborhood-watch-meeting-9/
LOCATION:Sacramento County Sherriff’s Department\, 2897 Kilgore Road\, Rancho Cordova\, CA\, 95670\, United States
END:VEVENT
BEGIN:VEVENT
DTSTART;TZID=America/Los_Angeles:20191012T084500
DTEND;TZID=America/Los_Angeles:20191012T110000
DTSTAMP:20260424T053847
CREATED:20190114T223639Z
LAST-MODIFIED:20190114T223639Z
UID:4150-1570869900-1570878000@rosemontca.org
SUMMARY:Kiefer Blvd Cleanup
DESCRIPTION:Since 2007\, RCA members have led an effort to keep Kiefer Blvd. clean of trash and debris. RCA volunteers conduct a quick and easy community service that typically takes less than two hours once every three months. The cleanup effort provides an engaging opportunity to meet with neighbors and provide the community an important service at the same time. \nVolunteers are always needed and gather in the front parking lot of the Atonement Church located at 9242 Kiefer Blvd. (at Westporter). Just bring your gloves\, a hat\, and a bottle of water – we’ll supply the rest. \nJoin a small crew of friends to help clean up our “main street” between Watt and Mayhew. Many hands make light – and fun – work. Gather at Atonement Church\, 9242 Kiefer\, at 8:45am.
URL:https://rosemontca.org/event/kiefer-blvd-cleanup-2/
LOCATION:CA
END:VEVENT
BEGIN:VEVENT
DTSTART;TZID=America/Los_Angeles:20191004T160000
DTEND;TZID=America/Los_Angeles:20191004T190000
DTSTAMP:20260424T053847
CREATED:20190110T182137Z
LAST-MODIFIED:20190110T182137Z
UID:4144-1570204800-1570215600@rosemontca.org
SUMMARY:Beer Garden
DESCRIPTION:
URL:https://rosemontca.org/event/beer-garden-2/
LOCATION:Rosemont Community Park\, 9326 Americana Way\, Sacramento\, CA\, 95826\, United States
END:VEVENT
BEGIN:VEVENT
DTSTART;TZID=America/Los_Angeles:20191003T190000
DTEND;TZID=America/Los_Angeles:20191003T203000
DTSTAMP:20260424T053847
CREATED:20190110T174349Z
LAST-MODIFIED:20190110T174349Z
UID:4113-1570129200-1570134600@rosemontca.org
SUMMARY:RCA Monthly Board Meeting
DESCRIPTION:
URL:https://rosemontca.org/event/rca-monthly-board-meeting-8/
LOCATION:Atonement Church\, 9242 Kiefer Blvd\, Sacramento\, CA\, 95826\, United States
END:VEVENT
BEGIN:VEVENT
DTSTART;VALUE=DATE:20190921
DTEND;VALUE=DATE:20190922
DTSTAMP:20260424T053847
CREATED:20190110T181851Z
LAST-MODIFIED:20190529T163458Z
UID:4140-1569024000-1569110399@rosemontca.org
SUMMARY:Rosemont Annual Community Celebration
DESCRIPTION:
URL:https://rosemontca.org/event/rosemont-annual-community-celebration/
LOCATION:Rosemont Community Park\, 9326 Americana Way\, Sacramento\, CA\, 95826\, United States
END:VEVENT
BEGIN:VEVENT
DTSTART;TZID=America/Los_Angeles:20190917T180000
DTEND;TZID=America/Los_Angeles:20190917T193000
DTSTAMP:20260424T053847
CREATED:20190110T180857Z
LAST-MODIFIED:20190110T180857Z
UID:4134-1568743200-1568748600@rosemontca.org
SUMMARY:Neighborhood Watch Meeting
DESCRIPTION:
URL:https://rosemontca.org/event/neighborhood-watch-meeting-8/
LOCATION:Sacramento County Sherriff’s Department\, 2897 Kilgore Road\, Rancho Cordova\, CA\, 95670\, United States
END:VEVENT
BEGIN:VEVENT
DTSTART;TZID=America/Los_Angeles:20190905T190000
DTEND;TZID=America/Los_Angeles:20190905T203000
DTSTAMP:20260424T053847
CREATED:20190110T174159Z
LAST-MODIFIED:20190110T174159Z
UID:4111-1567710000-1567715400@rosemontca.org
SUMMARY:RCA Monthly Board Meeting
DESCRIPTION:
URL:https://rosemontca.org/event/rca-monthly-board-meeting-7/
LOCATION:Atonement Church\, 9242 Kiefer Blvd\, Sacramento\, CA\, 95826\, United States
END:VEVENT
BEGIN:VEVENT
DTSTART;TZID=America/Los_Angeles:20190820T180000
DTEND;TZID=America/Los_Angeles:20190820T193000
DTSTAMP:20260424T053847
CREATED:20190110T180731Z
LAST-MODIFIED:20190110T180731Z
UID:4132-1566324000-1566329400@rosemontca.org
SUMMARY:Neighborhood Watch Meeting
DESCRIPTION:
URL:https://rosemontca.org/event/neighborhood-watch-meeting-7/
LOCATION:Sacramento County Sherriff’s Department\, 2897 Kilgore Road\, Rancho Cordova\, CA\, 95670\, United States
END:VEVENT
END:VCALENDAR