BEGIN:VCALENDAR
VERSION:2.0
PRODID:-//Rosemont Community Association - ECPv6.15.10//NONSGML v1.0//EN
CALSCALE:GREGORIAN
METHOD:PUBLISH
X-ORIGINAL-URL:https://rosemontca.org
X-WR-CALDESC:Events for Rosemont Community Association
REFRESH-INTERVAL;VALUE=DURATION:PT1H
X-Robots-Tag:noindex
X-PUBLISHED-TTL:PT1H
BEGIN:VTIMEZONE
TZID:America/Los_Angeles
BEGIN:DAYLIGHT
TZOFFSETFROM:-0800
TZOFFSETTO:-0700
TZNAME:PDT
DTSTART:20230312T100000
END:DAYLIGHT
BEGIN:STANDARD
TZOFFSETFROM:-0700
TZOFFSETTO:-0800
TZNAME:PST
DTSTART:20231105T090000
END:STANDARD
BEGIN:DAYLIGHT
TZOFFSETFROM:-0800
TZOFFSETTO:-0700
TZNAME:PDT
DTSTART:20240310T100000
END:DAYLIGHT
BEGIN:STANDARD
TZOFFSETFROM:-0700
TZOFFSETTO:-0800
TZNAME:PST
DTSTART:20241103T090000
END:STANDARD
BEGIN:DAYLIGHT
TZOFFSETFROM:-0800
TZOFFSETTO:-0700
TZNAME:PDT
DTSTART:20250309T100000
END:DAYLIGHT
BEGIN:STANDARD
TZOFFSETFROM:-0700
TZOFFSETTO:-0800
TZNAME:PST
DTSTART:20251102T090000
END:STANDARD
END:VTIMEZONE
BEGIN:VEVENT
DTSTART;TZID=America/Los_Angeles:20241005T160000
DTEND;TZID=America/Los_Angeles:20241005T200000
DTSTAMP:20260424T135839
CREATED:20240906T221935Z
LAST-MODIFIED:20240906T222425Z
UID:7770-1728144000-1728158400@rosemontca.org
SUMMARY:Fall Festival - Rosemont High School
DESCRIPTION:Get ready for an unforgettable evening at the Rosemont Community Boosters Fall Festival on October 5th\, 2024! \nJoin the Boosters at Rosemont High School for a day filled with festive fun—think vendors\, live music\, a pumpkin patch\, Trunk or Treat\, haunted house\, and so much more!\nWear a costume for FREE admission!\n When: October 5\, 2024\, 4 PM – 8 PM\n Where: Rosemont High School\, 9594 Kiefer Blvd.\, Sacramento\, CA\n Admission: $5 Adults | $3 Kids | FREE for ages 10 & under
URL:https://rosemontca.org/event/fall-festival-rosemont-high-school/
LOCATION:Rosemont High School\, 9594 Kiefer Blvd\, Sacramento\, CA\, 95827\, United States
ATTACH;FMTTYPE=image/png:https://rosemontca.org/wp-content/uploads/2024/09/image.png
END:VEVENT
BEGIN:VEVENT
DTSTART;TZID=America/Los_Angeles:20241019T100000
DTEND;TZID=America/Los_Angeles:20241019T140000
DTSTAMP:20260424T135839
CREATED:20240808T234402Z
LAST-MODIFIED:20241001T161138Z
UID:7664-1729332000-1729346400@rosemontca.org
SUMMARY:Pumpkin Giveaway & Food Drive
DESCRIPTION:Celebrating autumn and the upcoming holiday season by giving out pumpkins and gathering food for those in need.
URL:https://rosemontca.org/event/pumpkin-giveaway-food-drive/
LOCATION:Save Mart – Kiefer Blvd.\, Rosemont\, CA
ATTACH;FMTTYPE=image/jpeg:https://rosemontca.org/wp-content/uploads/2024/08/Pumpkin-Giveaway-1.jpg
END:VEVENT
BEGIN:VEVENT
DTSTART;TZID=America/Los_Angeles:20241026T080000
DTEND;TZID=America/Los_Angeles:20241026T140000
DTSTAMP:20260424T135839
CREATED:20240917T200756Z
LAST-MODIFIED:20240917T202538Z
UID:7785-1729929600-1729951200@rosemontca.org
SUMMARY:Rosemont Neighborhood Yard Sale
DESCRIPTION:Rosemont Annual Neighborhood Yard Sale put on by Rosemont Residents. \nContact for more information: rosemontyardsale2024@gmail.com \nRosemont Neighborhood Yard Sale
URL:https://rosemontca.org/event/rosemont-neighborhood-yard-sale/
LOCATION:CA
ATTACH;FMTTYPE=image/jpeg:https://rosemontca.org/wp-content/uploads/2024/09/Neighborhood-Garage-Sale2.jpg
END:VEVENT
BEGIN:VEVENT
DTSTART;TZID=America/Los_Angeles:20241026T110000
DTEND;TZID=America/Los_Angeles:20241026T170000
DTSTAMP:20260424T135839
CREATED:20240930T211448Z
LAST-MODIFIED:20240930T211448Z
UID:7822-1729940400-1729962000@rosemontca.org
SUMMARY:Trick or Treat Safetyville 2024
DESCRIPTION:Trick or Treat Safetyville offers a fun and safe trick or treating experience for kids of all ages. Take a walk down the spooky streets of the little city and see what surprises pop up around every corner. Visit the trick-or-treat stations to enjoy fun activities related to safety and health and to fill up your bag with treats and prizes.
URL:https://rosemontca.org/event/trick-or-treat-safetyville-2024/
LOCATION:Safetyville\, USA Sacramento\, 3909 Bradshaw Road\, Sacramento\, CA\, 95827\, United States
ATTACH;FMTTYPE=image/png:https://rosemontca.org/wp-content/uploads/2024/09/lfsAjjuC8Z313rlI77wZu2x4UUspM4j9J87hoWFd.png
END:VEVENT
BEGIN:VEVENT
DTSTART;TZID=America/Los_Angeles:20241026T143000
DTEND;TZID=America/Los_Angeles:20241026T173000
DTSTAMP:20260424T135839
CREATED:20240906T232437Z
LAST-MODIFIED:20240906T232437Z
UID:7774-1729953000-1729963800@rosemontca.org
SUMMARY:Halloween at Hagan
DESCRIPTION:Save the date for CRPD’s annual Halloween at Hagan event!\n\nCome dressed in your Halloween best and join the spooky festivities for the whole family!\nActivities: \n Trunk or Treat (Free!)  Zombie Run  Carnival Games  Inflatables  Obstacle Course  Music  Food  and so much more! \nSaturday\, October 26 | 2:30 – 5:30 p.m. | Hagan Community Park | $5/person \nFor questions\, contact customerservice@cordovarpd.gov \nEvent Page: https://cordovarpd.gov/recreation/special-events/halloween-at-hagan/
URL:https://rosemontca.org/event/halloween-at-hagan/
LOCATION:Hagan Community Park\, 2197 Chase Dr\, Rancho Cordova\, CA\, 95670\, United States
ATTACH;FMTTYPE=image/png:https://rosemontca.org/wp-content/uploads/2024/09/H@H_specialeventcard_1149x645-380x230-1.png
END:VEVENT
END:VCALENDAR