BEGIN:VCALENDAR
VERSION:2.0
PRODID:-//Rosemont Community Association - ECPv6.15.10//NONSGML v1.0//EN
CALSCALE:GREGORIAN
METHOD:PUBLISH
X-WR-CALNAME:Rosemont Community Association
X-ORIGINAL-URL:https://rosemontca.org
X-WR-CALDESC:Events for Rosemont Community Association
REFRESH-INTERVAL;VALUE=DURATION:PT1H
X-Robots-Tag:noindex
X-PUBLISHED-TTL:PT1H
BEGIN:VTIMEZONE
TZID:America/Los_Angeles
BEGIN:DAYLIGHT
TZOFFSETFROM:-0800
TZOFFSETTO:-0700
TZNAME:PDT
DTSTART:20240310T100000
END:DAYLIGHT
BEGIN:STANDARD
TZOFFSETFROM:-0700
TZOFFSETTO:-0800
TZNAME:PST
DTSTART:20241103T090000
END:STANDARD
BEGIN:DAYLIGHT
TZOFFSETFROM:-0800
TZOFFSETTO:-0700
TZNAME:PDT
DTSTART:20250309T100000
END:DAYLIGHT
BEGIN:STANDARD
TZOFFSETFROM:-0700
TZOFFSETTO:-0800
TZNAME:PST
DTSTART:20251102T090000
END:STANDARD
BEGIN:DAYLIGHT
TZOFFSETFROM:-0800
TZOFFSETTO:-0700
TZNAME:PDT
DTSTART:20260308T100000
END:DAYLIGHT
BEGIN:STANDARD
TZOFFSETFROM:-0700
TZOFFSETTO:-0800
TZNAME:PST
DTSTART:20261101T090000
END:STANDARD
END:VTIMEZONE
BEGIN:VEVENT
DTSTART;TZID=America/Los_Angeles:20250605T190000
DTEND;TZID=America/Los_Angeles:20250605T203000
DTSTAMP:20260424T012332
CREATED:20250604T213406Z
LAST-MODIFIED:20250604T213406Z
UID:8286-1749150000-1749155400@rosemontca.org
SUMMARY:RCA Monthly Meeting
DESCRIPTION:The Rosemont Community Association invites you to our monthly RCA Board and Community Meeting. \nBelow are the location and details of the meeting. \nBe sure to join us: \nThursday at 7pm\, June 5th\, 2025 \nLocation: \n9242 Kiefer Blvd\, Sacramento\, CA 95826 \n(Atonement Lutheran Church) \nPlease click this link to access the agenda for the current meeting. \nMeetings are held on the first Thursday of each month.
URL:https://rosemontca.org/event/rca-monthly-meeting-2/
LOCATION:Atonement Church\, 9242 Kiefer Blvd\, Sacramento\, CA\, 95826\, United States
ATTACH;FMTTYPE=image/png:https://rosemontca.org/wp-content/uploads/2025/06/Monthly-Community-Meeting.png
END:VEVENT
BEGIN:VEVENT
DTSTART;TZID=America/Los_Angeles:20250621T100000
DTEND;TZID=America/Los_Angeles:20250621T140000
DTSTAMP:20260424T012332
CREATED:20250428T220034Z
LAST-MODIFIED:20250428T220034Z
UID:8169-1750500000-1750514400@rosemontca.org
SUMMARY:Safetyville Family Day
DESCRIPTION:Family Day @Safetyville USA is back! This free event designed to give families valuable information & access to community resources in the Sacramento area all while including fun activities. \nFamilies attending will enjoy: \n\nBooths with Health\, Safety & Recreational Resources for families\nSafety & health giveaways\nFood & refreshments available for purchase\nSafety demonstrations\n\nWHEN: Saturday\, June 21\, 2025 10 am – 2 pm \nWHERE: Safetyville USA – 3909 Bradshaw Road\, Sacramento\, CA 95827 \nCOST: FREE! Pre-Registration is required \n** This is not a bike event. No bike riding will be allowed in Safetyville during the event **
URL:https://rosemontca.org/event/safetyville-family-day/
LOCATION:Safetyville\, USA Sacramento\, 3909 Bradshaw Road\, Sacramento\, CA\, 95827\, United States
CATEGORIES:Community
ATTACH;FMTTYPE=image/png:https://rosemontca.org/wp-content/uploads/2025/04/family-day-featured-image.png
END:VEVENT
END:VCALENDAR