BEGIN:VCALENDAR
VERSION:2.0
PRODID:-//Rosemont Community Association - ECPv6.15.10//NONSGML v1.0//EN
CALSCALE:GREGORIAN
METHOD:PUBLISH
X-WR-CALNAME:Rosemont Community Association
X-ORIGINAL-URL:https://rosemontca.org
X-WR-CALDESC:Events for Rosemont Community Association
REFRESH-INTERVAL;VALUE=DURATION:PT1H
X-Robots-Tag:noindex
X-PUBLISHED-TTL:PT1H
BEGIN:VTIMEZONE
TZID:America/Los_Angeles
BEGIN:DAYLIGHT
TZOFFSETFROM:-0800
TZOFFSETTO:-0700
TZNAME:PDT
DTSTART:20240310T100000
END:DAYLIGHT
BEGIN:STANDARD
TZOFFSETFROM:-0700
TZOFFSETTO:-0800
TZNAME:PST
DTSTART:20241103T090000
END:STANDARD
BEGIN:DAYLIGHT
TZOFFSETFROM:-0800
TZOFFSETTO:-0700
TZNAME:PDT
DTSTART:20250309T100000
END:DAYLIGHT
BEGIN:STANDARD
TZOFFSETFROM:-0700
TZOFFSETTO:-0800
TZNAME:PST
DTSTART:20251102T090000
END:STANDARD
BEGIN:DAYLIGHT
TZOFFSETFROM:-0800
TZOFFSETTO:-0700
TZNAME:PDT
DTSTART:20260308T100000
END:DAYLIGHT
BEGIN:STANDARD
TZOFFSETFROM:-0700
TZOFFSETTO:-0800
TZNAME:PST
DTSTART:20261101T090000
END:STANDARD
END:VTIMEZONE
BEGIN:VEVENT
DTSTART;TZID=America/Los_Angeles:20251011T100000
DTEND;TZID=America/Los_Angeles:20251011T130000
DTSTAMP:20260423T191936
CREATED:20250712T002552Z
LAST-MODIFIED:20250712T005319Z
UID:8424-1760176800-1760187600@rosemontca.org
SUMMARY:SCUSD’s College and Career Fair
DESCRIPTION:SCUSD’s College and Career Fair is taking place on Saturday\, October 11\, 2025\, from 10:00 AM to 1:00 PM.\n\nThis year’s event is shaping up to be the biggest and most impactful yet!\n\n🌟 What’s New This Year?\nThe Job Fair is located inside the Career Zone.  The Community Zone is viewable from the outside due to the room having walls of windows.  The Financial sections are all on ground level and have increased visibility. There are tons of activities for younger children like rock painting\, reading circle and Home Depot Kid Kits to work on.  They will have robots\, some giveaways\, music\, hands on career demonstrations\, dozens of colleges\, and more.
URL:https://rosemontca.org/event/scusdcareerfair2025/
LOCATION:Rosemont High School\, 9594 Kiefer Blvd\, Sacramento\, CA\, 95827\, United States
CATEGORIES:Community
ATTACH;FMTTYPE=image/png:https://rosemontca.org/wp-content/uploads/2025/07/CareerDay.png
END:VEVENT
BEGIN:VEVENT
DTSTART;TZID=America/Los_Angeles:20251018T100000
DTEND;TZID=America/Los_Angeles:20251018T130000
DTSTAMP:20260423T191936
CREATED:20251012T222908Z
LAST-MODIFIED:20251012T222908Z
UID:8646-1760781600-1760792400@rosemontca.org
SUMMARY:6th Annual PUMPKIN GIVEAWAY & FOOD DRIVE
DESCRIPTION:Free pumpkins (one for each child that is present)\, treat bags and books for the kids. Your donations of canned\, boxed\, and packaged food will benefit Capital Compassion. The Garden City Church ice cream truck will be on hand as well as Rosemont Reads. This event is made possible by our partnership with Save Mart and a donation from Andre’s Tree Service.
URL:https://rosemontca.org/event/6th-annual-pumpkin-giveaway-food-drive/
LOCATION:Save Mart – Kiefer Blvd.\, Rosemont\, CA
ATTACH;FMTTYPE=image/jpeg:https://rosemontca.org/wp-content/uploads/2025/10/Website-image-1.jpg
END:VEVENT
END:VCALENDAR