BEGIN:VCALENDAR
VERSION:2.0
PRODID:-//Rosemont Community Association - ECPv6.15.10//NONSGML v1.0//EN
CALSCALE:GREGORIAN
METHOD:PUBLISH
X-WR-CALNAME:Rosemont Community Association
X-ORIGINAL-URL:https://rosemontca.org
X-WR-CALDESC:Events for Rosemont Community Association
REFRESH-INTERVAL;VALUE=DURATION:PT1H
X-Robots-Tag:noindex
X-PUBLISHED-TTL:PT1H
BEGIN:VTIMEZONE
TZID:America/Los_Angeles
BEGIN:DAYLIGHT
TZOFFSETFROM:-0800
TZOFFSETTO:-0700
TZNAME:PDT
DTSTART:20240310T100000
END:DAYLIGHT
BEGIN:STANDARD
TZOFFSETFROM:-0700
TZOFFSETTO:-0800
TZNAME:PST
DTSTART:20241103T090000
END:STANDARD
BEGIN:DAYLIGHT
TZOFFSETFROM:-0800
TZOFFSETTO:-0700
TZNAME:PDT
DTSTART:20250309T100000
END:DAYLIGHT
BEGIN:STANDARD
TZOFFSETFROM:-0700
TZOFFSETTO:-0800
TZNAME:PST
DTSTART:20251102T090000
END:STANDARD
BEGIN:DAYLIGHT
TZOFFSETFROM:-0800
TZOFFSETTO:-0700
TZNAME:PDT
DTSTART:20260308T100000
END:DAYLIGHT
BEGIN:STANDARD
TZOFFSETFROM:-0700
TZOFFSETTO:-0800
TZNAME:PST
DTSTART:20261101T090000
END:STANDARD
END:VTIMEZONE
BEGIN:VEVENT
DTSTART;TZID=America/Los_Angeles:20251115T100000
DTEND;TZID=America/Los_Angeles:20251115T140000
DTSTAMP:20260423T174758
CREATED:20251030T045657Z
LAST-MODIFIED:20251030T045657Z
UID:8762-1763200800-1763215200@rosemontca.org
SUMMARY:COMMUNITY FOOD DRIVE
DESCRIPTION:In anticipation of the need for increased food supplies during the government shutdown\, RCA will be holding a joint food drive to benefit both of our local Rosemont food closets at Atonement Lutheran Church and Elevation of the Holy Cross Orthodox Church. \nIf you are unable to come to the Food Drive\, you may drop off items at The Sandwich Spot in the TS Food Mart shopping center between November 3-14. \nThank you in advance for your generosity.
URL:https://rosemontca.org/event/community-food-drive/
LOCATION:Atonement Lutheran Church\, 9242 Kiefer Blvd.\, Rosemeont\, 95826\, United States
ATTACH;FMTTYPE=image/jpeg:https://rosemontca.org/wp-content/uploads/2025/10/Food-Drive-Web.jpg
END:VEVENT
END:VCALENDAR